Workbook

Sheet START
A1: Introversion / Extraversion Assessment from Scientific American
A2: The following is a self-assessment from the Scientific American blog (June 9, 2014). It was presented in simple text format. This spreadsheet improves on that format to present it in an app style interface, done by Minh Tan. Answer as accurately as you can since results will only be as good as your answers!
A4: Answer the following 20 questions with a score of 1-5 where
B5: 1 = Does NOT apply to me at all (i.e. very false of me)
B6: 5 = Really applies to me (i.e. very true of me)
E7: =SUM(E8:E46) -> 0
A8: 1 | B8: Make friends easily | D8: =IF(C8<>"",IF(OR(C8=1,C8=2,C8=3,C8=4,C8=5),""," Please enter a value from 1 to 5 instead"),"") | E8: =IF(OR(C8=1,C8=2,C8=3,C8=4,C8=5),1,"")
A10: =A8+1 -> 2 | B10: Am hard to get to know | D10: =IF(C10<>"",IF(OR(C10=1,C10=2,C10=3,C10=4,C10=5),""," Please enter a value from 1 to 5 instead"),"") | E10: =IF(OR(C10=1,C10=2,C10=3,C10=4,C10=5),1,"")
A12: =A10+1 -> 3 | B12: Keep others at a distance | D12: =IF(C12<>"",IF(OR(C12=1,C12=2,C12=3,C12=4,C12=5),""," Please enter a value from 1 to 5 instead"),"") | E12: =IF(OR(C12=1,C12=2,C12=3,C12=4,C12=5),1,"")
A14: =A12+1 -> 4 | B14: Reveal little about myself | D14: =IF(C14<>"",IF(OR(C14=1,C14=2,C14=3,C14=4,C14=5),""," Please enter a value from 1 to 5 instead"),"") | E14: =IF(OR(C14=1,C14=2,C14=3,C14=4,C14=5),1,"")
A16: =A14+1 -> 5 | B16: Warm up quickly to others | D16: =IF(C16<>"",IF(OR(C16=1,C16=2,C16=3,C16=4,C16=5),""," Please enter a value from 1 to 5 instead"),"") | E16: =IF(OR(C16=1,C16=2,C16=3,C16=4,C16=5),1,"")
A18: =A16+1 -> 6 | B18: Rarely get caught up in the excitement | D18: =IF(C18<>"",IF(OR(C18=1,C18=2,C18=3,C18=4,C18=5),""," Please enter a value from 1 to 5 instead"),"") | E18: =IF(OR(C18=1,C18=2,C18=3,C18=4,C18=5),1,"")
A20: =A18+1 -> 7 | B20: Am not a very enthusiastic person | D20: =IF(C20<>"",IF(OR(C20=1,C20=2,C20=3,C20=4,C20=5),""," Please enter a value from 1 to 5 instead"),"") | E20: =IF(OR(C20=1,C20=2,C20=3,C20=4,C20=5),1,"")
A22: =A20+1 -> 8 | B22: Show my feelings when I'm happy | D22: =IF(C22<>"",IF(OR(C22=1,C22=2,C22=3,C22=4,C22=5),""," Please enter a value from 1 to 5 instead"),"") | E22: =IF(OR(C22=1,C22=2,C22=3,C22=4,C22=5),1,"")
A24: =A22+1 -> 9 | B24: Have a lot of fun | D24: =IF(C24<>"",IF(OR(C24=1,C24=2,C24=3,C24=4,C24=5),""," Please enter a value from 1 to 5 instead"),"") | E24: =IF(OR(C24=1,C24=2,C24=3,C24=4,C24=5),1,"")
A26: =A24+1 -> 10 | B26: Laugh a lot | D26: =IF(C26<>"",IF(OR(C26=1,C26=2,C26=3,C26=4,C26=5),""," Please enter a value from 1 to 5 instead"),"") | E26: =IF(OR(C26=1,C26=2,C26=3,C26=4,C26=5),1,"")
A28: =A26+1 -> 11 | B28: Take charge | D28: =IF(C28<>"",IF(OR(C28=1,C28=2,C28=3,C28=4,C28=5),""," Please enter a value from 1 to 5 instead"),"") | E28: =IF(OR(C28=1,C28=2,C28=3,C28=4,C28=5),1,"")
A30: =A28+1 -> 12 | B30: Have a strong personality | D30: =IF(C30<>"",IF(OR(C30=1,C30=2,C30=3,C30=4,C30=5),""," Please enter a value from 1 to 5 instead"),"") | E30: =IF(OR(C30=1,C30=2,C30=3,C30=4,C30=5),1,"")
A32: =A30+1 -> 13 | B32: Lack the talent for influencing people | D32: =IF(C32<>"",IF(OR(C32=1,C32=2,C32=3,C32=4,C32=5),""," Please enter a value from 1 to 5 instead"),"") | E32: =IF(OR(C32=1,C32=2,C32=3,C32=4,C32=5),1,"")
... A46: =A44+1 -> 20 | B46: Do not have an assertive personality | D46: =IF(C46<>"",IF(OR(C46=1,C46=2,C46=3,C46=4,C46=5),""," Please enter a value from 1 to 5 instead"),"") | E46: =IF(OR(C46=1,C46=2,C46=3,C46=4,C46=5),1,"")
A47: From http://digitalcitizen.ca/2016/03/13/introversion-extraversion-assessment-excel/
A48: =IF(E7=20,"Thank you for your answers. Please click on the REVERSAL tab to continue.","")

Sheet REVERSAL
A1: Introversion / Extraversion Assessment from Scientific American
A2: You don't need to do anything from here on. Answers to select questions are reversed. Those are shown in yellow backgrounds, and have been done for you. A 5 becomes a 1 and vice-versa. A 4 becomes a 2 and vice-versa. A 3 remains the same. Your final answers are what you entered that was not changed, and the "reversed" answers, where applicable. They are shown in red backgrounds.
C5: Original answers | D5: Reversed answers | E5: FINAL answers
A7: 1 | B7: Make friends easily | C7: =IF(START!$E$7=20,START!C8,"") | E7: =IF(START!$E$7=20,C7,"")
A9: =A7+1 -> 2 | B9: Am hard to get to know | C9: =IF(START!$E$7=20,START!C10,"") | D9: =IF(C9="","",IF(C9=1,5,IF(C9=2,4,IF(C9=4,2,IF(C9=5,1,3))))) | E9: =IF(START!$E$7=20,D9,"")
A11: =A9+1 -> 3 | B11: Keep others at a distance | C11: =IF(START!$E$7=20,START!C12,"") | D11: =IF(C11="","",IF(C11=1,5,IF(C11=2,4,IF(C11=4,2,IF(C11=5,1,3))))) | E11: =IF(START!$E$7=20,D11,"")
A13: =A11+1 -> 4 | B13: Reveal little about myself | C13: =IF(START!$E$7=20,START!C14,"") | D13: =IF(C13="","",IF(C13=1,5,IF(C13=2,4,IF(C13=4,2,IF(C13=5,1,3))))) | E13: =IF(START!$E$7=20,D13,"")
A15: =A13+1 -> 5 | B15: Warm up quickly to others | C15: =IF(START!$E$7=20,START!C16,"") | E15: =IF(START!$E$7=20,C15,"")
A17: =A15+1 -> 6 | B17: Rarely get caught up in the excitement | C17: =IF(START!$E$7=20,START!C18,"") | D17: =IF(C17="","",IF(C17=1,5,IF(C17=2,4,IF(C17=4,2,IF(C17=5,1,3))))) | E17: =IF(START!$E$7=20,D17,"")
A19: =A17+1 -> 7 | B19: Am not a very enthusiastic person | C19: =IF(START!$E$7=20,START!C20,"") | D19: =IF(C19="","",IF(C19=1,5,IF(C19=2,4,IF(C19=4,2,IF(C19=5,1,3))))) | E19: =IF(START!$E$7=20,D19,"")
A21: =A19+1 -> 8 | B21: Show my feelings when I'm happy | C21: =IF(START!$E$7=20,START!C22,"") | E21: =IF(START!$E$7=20,C21,"")
A23: =A21+1 -> 9 | B23: Have a lot of fun | C23: =IF(START!$E$7=20,START!C24,"") | E23: =IF(START!$E$7=20,C23,"")
A25: =A23+1 -> 10 | B25: Laugh a lot | C25: =IF(START!$E$7=20,START!C26,"") | E25: =IF(START!$E$7=20,C25,"")
A27: =A25+1 -> 11 | B27: Take charge | C27: =IF(START!$E$7=20,START!C28,"") | E27: =IF(START!$E$7=20,C27,"")
A29: =A27+1 -> 12 | B29: Have a strong personality | C29: =IF(START!$E$7=20,START!C30,"") | E29: =IF(START!$E$7=20,C29,"")
A31: =A29+1 -> 13 | B31: Lack the talent for influencing people | C31: =IF(START!$E$7=20,START!C32,"") | D31: =IF(C31="","",IF(C31=1,5,IF(C31=2,4,IF(C31=4,2,IF(C31=5,1,3))))) | E31: =IF(START!$E$7=20,D31,"")
A33: =A31+1 -> 14 | B33: Know how to captivate people | C33: =IF(START!$E$7=20,START!C34,"") | E33: =IF(START!$E$7=20,C33,"")
A35: =A33+1 -> 15 | B35: Wait for others to lead the way | C35: =IF(START!$E$7=20,START!C36,"") | D35: =IF(C35="","",IF(C35=1,5,IF(C35=2,4,IF(C35=4,2,IF(C35=5,1,3))))) | E35: =IF(START!$E$7=20,D35,"")
A37: =A35+1 -> 16 | B37: See myself as a good leader | C37: =IF(START!$E$7=20,START!C38,"") | E37: =IF(START!$E$7=20,C37,"")
A39: =A37+1 -> 17 | B39: Can talk others into doing things | C39: =IF(START!$E$7=20,START!C40,"") | E39: =IF(START!$E$7=20,C39,"")
A41: =A39+1 -> 18 | B41: Hold back my opinions | C41: =IF(START!$E$7=20,START!C42,"") | D41: =IF(C41="","",IF(C41=1,5,IF(C41=2,4,IF(C41=4,2,IF(C41=5,1,3))))) | E41: =IF(START!$E$7=20,D41,"")
A43: =A41+1 -> 19 | B43: Am the first to act | C43: =IF(START!$E$7=20,START!C44,"") | E43: =IF(START!$E$7=20,C43,"")
A45: =A43+1 -> 20 | B45: Do not have an assertive personality | C45: =IF(START!$E$7=20,START!C46,"") | D45: =IF(C45="","",IF(C45=1,5,IF(C45=2,4,IF(C45=4,2,IF(C45=5,1,3))))) | E45: =IF(START!$E$7=20,D45,"")
A46: From http://digitalcitizen.ca/2016/03/13/introversion-extraversion-assessment-excel/ | C46: =IF(START!$E$7=20,"AVERAGE","") | E46: =IF(START!$E$7=20,ROUND(SUM(REVERSAL!E7:E45)/20,1),"")
B48: =IF(START!$E$7=20,"Please click on the RESULTS Tab to see your Results.","") | E48: =IF(START!$E$7=20,ROUND(SUM(REVERSAL!E7:E25)/10,1),"") | F48: =IF(E48<3.01,"Mild",IF(E48>3.89,"Strong","Moderate")) -> Strong
E49: =IF(START!$E$7=20,ROUND(SUM(REVERSAL!E27:E45)/10,1),"") | F49: =IF(E49<3.01,"Mild",IF(E49>3.89,"Strong","Moderate")) -> Strong

Sheet RESULTS
A1: Introversion / Extraversion Assessment from Scientific American
A2: These are your results and what they generally mean. Your score was averaged to 1 decimal place because that was how it was done in the Scientific American blog entry. Also, note the word "probably" in the Interpretation. This how you should take your results, not with absolute certainty.
A3: =IF(START!$E$7=20,REVERSAL!E46,"") | B3: Was your average score
A5: Avg Score | B5: Interpretation
A6: 1.0 to 3.0 | B6: Probably an introvert | E6: =IF(AND(START!$E$7=20,$A$3<3.1),"You are probably an INTROvert","")
A7: 3.1 to 3.8 | B7: Probably an ambivert* | E7: =IF(AND(START!$E$7=20,$A$3>3,$A$3<3.9),"You are probably an AMBIvert","")
A8: 3.9 to 5.0 | B8: Probably an extravert | E8: =IF(AND(START!$E$7=20,$A$3>3.89),"You are probably an EXTRAvert","")
B9: * Ambiverts have a balance of intro & extraversion
A11: Furthermore…
A12: =E6&E7&E8 | F12: through a combination of
A14: =IF(START!$E$7=20,REVERSAL!F48&" Enthusiasm","") | E14: and | F14: =IF(START!$E$7=20,REVERSAL!F49&" Assertiveness","")
A15: =IF(START!$E$7=20,REVERSAL!E48&" avg score from first 10 questions","") | F15: =IF(START!$E$7=20,REVERSAL!E49&" avg score from second 10 questions","")
A17: Enthusiasm encompasses traits like sociability, friendliness, self-disclosure, gregariousness, and positive emotionality. Enthusiasm is primarily about social affiliation, but goes beyond sociability to include positive emotions, more generally, like joy, exuberance, and excitement. | F17: Assertiveness encompasses traits like leadership, dominance, provocativeness, activity, talkativeness, and persuasiveness. Assertiveness is more about social status than social affiliation.
A26: For muchmore information on these complex traits and for interpretation
A27: of your results, please see the Scientific American blog entry called
A28: Will the Real Introverts Please Stand Up?
A29: Excel file from http://digitalcitizen.ca/2016/03/13/introversion-extraversion-assessment-excel/

Sheet NOTES
A1: If you wish to print the START tab, you can just click PRINT and it will print out on a letter sized page, portrait orientation, over two pages. It is otherwise locked down except the answer boxes to prevent accidental alterations.
A9: Once all your answers are filled out in the START tab, the REVERSAL tab will auto-populate and you can just click PRINT to print it out on a letter sized page, portrait orientation, if you wish. This tab is otherwise locked to prevent accidental alterations.
A17: Once all your answers are filled out in the START tab, the RESULTS tab will auto-populate and you can just click PRINT to print it out on a letter sized page, portrait orientation, if you wish. This tab is otherwise locked to prevent accidental alterations.
A26: Please note that this test is only meant as a general self-assessment. If users were to take actions based on results of this test, they are responsible for their own actions. Should those actions involve potentially major consequences, it is advised that additional consultation be sought.
