Workbook
Name DataArea: APR!$A$2:$G$290
Name DataArea: AUG!$A$2:$G$290
Name DataArea: DEC!$A$2:$G$290
Name DataArea: FEB!$A$2:$G$290
Name DataArea: JAN!$A$2:$G$290
Name DataArea: JUL!$A$2:$G$290
Name DataArea: JUN!$A$2:$G$290
Name DataArea: MAR!$A$2:$G$290
Name DataArea: MAY!$A$2:$G$290
Name DataArea: NOV!$A$2:$G$290
Name DataArea: OCT!$A$2:$G$290
Name DataArea: SEP!$A$2:$G$290
Name DataArea: #REF!

Sheet JAN
A1: Date | B1: Met | C1: Cat | D1: Transaction Description (January) | E1: Spent | F1: Earned | G1: =SETUP!H89 -> X | I1: CATEGORIES | K1: Amount | L1: # Trans | M1: % | N1: Avg per Trans | P1: Copyright by Minh Tan 2012 - digitalcitizen.ca
D2: Starting Balance | E2: =IF(SETUP!H83=1,SETUP!E96,DEC!K6)
D3: =IF(SETUP!$B$116<>"",SETUP!$B$116,"") | J3: INCOME | K3: =IF(SUM(F3:F290)>0.005,SUM(F3:F290),"") | L3: =IF(COUNTIF(F3:F290,">0.005")>0.005,COUNTIF(F3:F290,">0.005"),"") | N3: =IF(SUM(F3:F290)>0.005,K3/L3,"")
D4: =IF(SETUP!$B$117<>"",SETUP!$B$117,"") | J4: EXPENDITURES | K4: =IF(SUM(E3:E290)>0.005,-SUM(E3:E290),"") | L4: =IF(COUNTIF(E3:E290,">0.005")>0.005,COUNTIF(E3:E290,">0.005"),"") | M4: =IF(ISERROR(IF(K3>1,-K4/K3,"")),"",K4/K3) | N4: =IF(SUM(E3:E290)>0.005,K4/L4,"")
D5: =IF(SETUP!$B$118<>"",SETUP!$B$118,"") | J5: NET | K5: =IF(OR(SUM(F3:F290)>0.005,K4<-0.005),SUM(K3:K4),"") | L5: =IF(OR(-SUM(F3:F290)-SUM(E3:E290)>0.005,SUM(F3:F290)-SUM(K60:K69)>0.005,-SUM(E3:E290)-SUM(K83:K85)>0.005),("Check unclassified entries in "&IF(-SUM(K8:K52)-K4>0.005,"Expenditures ","")&IF(K3-SUM(K60:K69)>0.005,"Income ","")&IF(-K4-SUM(K83:K85)>0.005,"Payment","")),"")
D6: =IF(SETUP!$B$119<>"",SETUP!$B$119,"") | J6: CURRENT BALANCE | K6: =IF(OR(SUM(F3:F290)>0.005,K4<-0.005),SUM(E2,K5),"")
D7: =IF(SETUP!$B$120<>"",SETUP!$B$120,"") | J7: POORLY SPENT | K7: =IF(SUM(G3:G290)>0.005,-SUM(G3:G290),"") | L7: =IF(COUNTIF(G3:G290,">0.005")>0.005,COUNTIF(G3:G290,">0.005"),"") | M7: =IF(SUM(G3:G290)>0.005,K7/K4,"") | N7: =IF(K7<0,K7/L7,"")
D8: =IF(SETUP!$B$121<>"",SETUP!$B$121,"") | I8: =IF(SETUP!A3<>"",SETUP!A3,"") | J8: =IF(SETUP!B3<>"",SETUP!B3,"") | K8: =IF(SUMIF(C$3:C$290,SETUP!A3,E$3:E$290)>0.005,SUMIF(C$3:C$290,SETUP!A3,E$3:E$290),"") | L8: =IF(COUNTIF(C$3:C$290,SETUP!A3)>0.005,COUNTIF(C$3:C$290,SETUP!A3),"") | M8: =IF(SUMIF(C$3:C$290,SETUP!A3,E$3:E$290)>0.005,-K8/K$4,"") | N8: =IF(SUMIF(C$3:C$290,I8,$E$3:$E$290)>0.005,K8/L8,"") | O8: Expenditures
D9: =IF(SETUP!$B$122<>"",SETUP!$B$122,"") | I9: =IF(SETUP!A4<>"",SETUP!A4,"") | J9: =IF(SETUP!B4<>"",SETUP!B4,"") | K9: =IF(SUMIF(C$3:C$290,SETUP!A4,E$3:E$290)>0.005,SUMIF(C$3:C$290,SETUP!A4,E$3:E$290),"") | L9: =IF(COUNTIF(C$3:C$290,SETUP!A4)>0.005,COUNTIF(C$3:C$290,SETUP!A4),"") | M9: =IF(SUMIF(C$3:C$290,SETUP!A4,E$3:E$290)>0.005,-K9/K$4,"") | N9: =IF(SUMIF(C$3:C$290,I9,$E$3:$E$290)>0.005,K9/L9,"")
D10: =IF(SETUP!$B$123<>"",SETUP!$B$123,"") | I10: =IF(SETUP!A5<>"",SETUP!A5,"") | J10: =IF(SETUP!B5<>"",SETUP!B5,"") | K10: =IF(SUMIF(C$3:C$290,SETUP!A5,E$3:E$290)>0.005,SUMIF(C$3:C$290,SETUP!A5,E$3:E$290),"") | L10: =IF(COUNTIF(C$3:C$290,SETUP!A5)>0.005,COUNTIF(C$3:C$290,SETUP!A5),"") | M10: =IF(SUMIF(C$3:C$290,SETUP!A5,E$3:E$290)>0.005,-K10/K$4,"") | N10: =IF(SUMIF(C$3:C$290,I10,$E$3:$E$290)>0.005,K10/L10,"")
D11: =IF(SETUP!$B$124<>"",SETUP!$B$124,"") | I11: =IF(SETUP!A6<>"",SETUP!A6,"") | J11: =IF(SETUP!B6<>"",SETUP!B6,"") | K11: =IF(SUMIF(C$3:C$290,SETUP!A6,E$3:E$290)>0.005,SUMIF(C$3:C$290,SETUP!A6,E$3:E$290),"") | L11: =IF(COUNTIF(C$3:C$290,SETUP!A6)>0.005,COUNTIF(C$3:C$290,SETUP!A6),"") | M11: =IF(SUMIF(C$3:C$290,SETUP!A6,E$3:E$290)>0.005,-K11/K$4,"") | N11: =IF(SUMIF(C$3:C$290,I11,$E$3:$E$290)>0.005,K11/L11,"")
D12: =IF(SETUP!$B$125<>"",SETUP!$B$125,"") | I12: =IF(SETUP!A7<>"",SETUP!A7,"") | J12: =IF(SETUP!B7<>"",SETUP!B7,"") | K12: =IF(SUMIF(C$3:C$290,SETUP!A7,E$3:E$290)>0.005,SUMIF(C$3:C$290,SETUP!A7,E$3:E$290),"") | L12: =IF(COUNTIF(C$3:C$290,SETUP!A7)>0.005,COUNTIF(C$3:C$290,SETUP!A7),"") | M12: =IF(SUMIF(C$3:C$290,SETUP!A7,E$3:E$290)>0.005,-K12/K$4,"") | N12: =IF(SUMIF(C$3:C$290,I12,$E$3:$E$290)>0.005,K12/L12,"")
D13: =IF(SETUP!$B$126<>"",SETUP!$B$126,"") | I13: =IF(SETUP!A8<>"",SETUP!A8,"") | J13: =IF(SETUP!B8<>"",SETUP!B8,"") | K13: =IF(SUMIF(C$3:C$290,SETUP!A8,E$3:E$290)>0.005,SUMIF(C$3:C$290,SETUP!A8,E$3:E$290),"") | L13: =IF(COUNTIF(C$3:C$290,SETUP!A8)>0.005,COUNTIF(C$3:C$290,SETUP!A8),"") | M13: =IF(SUMIF(C$3:C$290,SETUP!A8,E$3:E$290)>0.005,-K13/K$4,"") | N13: =IF(SUMIF(C$3:C$290,I13,$E$3:$E$290)>0.005,K13/L13,"")
D14: =IF(SETUP!$B$127<>"",SETUP!$B$127,"") | I14: =IF(SETUP!A9<>"",SETUP!A9,"") | J14: =IF(SETUP!B9<>"",SETUP!B9,"") | K14: =IF(SUMIF(C$3:C$290,SETUP!A9,E$3:E$290)>0.005,SUMIF(C$3:C$290,SETUP!A9,E$3:E$290),"") | L14: =IF(COUNTIF(C$3:C$290,SETUP!A9)>0.005,COUNTIF(C$3:C$290,SETUP!A9),"") | M14: =IF(SUMIF(C$3:C$290,SETUP!A9,E$3:E$290)>0.005,-K14/K$4,"") | N14: =IF(SUMIF(C$3:C$290,I14,$E$3:$E$290)>0.005,K14/L14,"")
D15: =IF(SETUP!$B$128<>"",SETUP!$B$128,"") | I15: =IF(SETUP!A10<>"",SETUP!A10,"") | J15: =IF(SETUP!B10<>"",SETUP!B10,"") | K15: =IF(SUMIF(C$3:C$290,SETUP!A10,E$3:E$290)>0.005,SUMIF(C$3:C$290,SETUP!A10,E$3:E$290),"") | L15: =IF(COUNTIF(C$3:C$290,SETUP!A10)>0.005,COUNTIF(C$3:C$290,SETUP!A10),"") | M15: =IF(SUMIF(C$3:C$290,SETUP!A10,E$3:E$290)>0.005,-K15/K$4,"") | N15: =IF(SUMIF(C$3:C$290,I15,$E$3:$E$290)>0.005,K15/L15,"")
D16: =IF(SETUP!$B$129<>"",SETUP!$B$129,"") | I16: =IF(SETUP!A11<>"",SETUP!A11,"") | J16: =IF(SETUP!B11<>"",SETUP!B11,"") | K16: =IF(SUMIF(C$3:C$290,SETUP!A11,E$3:E$290)>0.005,SUMIF(C$3:C$290,SETUP!A11,E$3:E$290),"") | L16: =IF(COUNTIF(C$3:C$290,SETUP!A11)>0.005,COUNTIF(C$3:C$290,SETUP!A11),"") | M16: =IF(SUMIF(C$3:C$290,SETUP!A11,E$3:E$290)>0.005,-K16/K$4,"") | N16: =IF(SUMIF(C$3:C$290,I16,$E$3:$E$290)>0.005,K16/L16,"") | P16: Copyright by Minh Tan 2012 - digitalcitizen.ca
D17: =IF(SETUP!$B$130<>"",SETUP!$B$130,"") | I17: =IF(SETUP!A12<>"",SETUP!A12,"") | J17: =IF(SETUP!B12<>"",SETUP!B12,"") | K17: =IF(SUMIF(C$3:C$290,SETUP!A12,E$3:E$290)>0.005,SUMIF(C$3:C$290,SETUP!A12,E$3:E$290),"") | L17: =IF(COUNTIF(C$3:C$290,SETUP!A12)>0.005,COUNTIF(C$3:C$290,SETUP!A12),"") | M17: =IF(SUMIF(C$3:C$290,SETUP!A12,E$3:E$290)>0.005,-K17/K$4,"") | N17: =IF(SUMIF(C$3:C$290,I17,$E$3:$E$290)>0.005,K17/L17,"")
D18: =IF(SETUP!$B$131<>"",SETUP!$B$131,"") | I18: =IF(SETUP!A13<>"",SETUP!A13,"") | J18: =IF(SETUP!B13<>"",SETUP!B13,"") | K18: =IF(SUMIF(C$3:C$290,SETUP!A13,E$3:E$290)>0.005,SUMIF(C$3:C$290,SETUP!A13,E$3:E$290),"") | L18: =IF(COUNTIF(C$3:C$290,SETUP!A13)>0.005,COUNTIF(C$3:C$290,SETUP!A13),"") | M18: =IF(SUMIF(C$3:C$290,SETUP!A13,E$3:E$290)>0.005,-K18/K$4,"") | N18: =IF(SUMIF(C$3:C$290,I18,$E$3:$E$290)>0.005,K18/L18,"")
D19: =IF(SETUP!$B$132<>"",SETUP!$B$132,"") | I19: =IF(SETUP!A14<>"",SETUP!A14,"") | J19: =IF(SETUP!B14<>"",SETUP!B14,"") | K19: =IF(SUMIF(C$3:C$290,SETUP!A14,E$3:E$290)>0.005,SUMIF(C$3:C$290,SETUP!A14,E$3:E$290),"") | L19: =IF(COUNTIF(C$3:C$290,SETUP!A14)>0.005,COUNTIF(C$3:C$290,SETUP!A14),"") | M19: =IF(SUMIF(C$3:C$290,SETUP!A14,E$3:E$290)>0.005,-K19/K$4,"") | N19: =IF(SUMIF(C$3:C$290,I19,$E$3:$E$290)>0.005,K19/L19,"")
D20: =IF(SETUP!$B$133<>"",SETUP!$B$133,"") | I20: =IF(SETUP!A15<>"",SETUP!A15,"") | J20: =IF(SETUP!B15<>"",SETUP!B15,"") | K20: =IF(SUMIF(C$3:C$290,SETUP!A15,E$3:E$290)>0.005,SUMIF(C$3:C$290,SETUP!A15,E$3:E$290),"") | L20: =IF(COUNTIF(C$3:C$290,SETUP!A15)>0.005,COUNTIF(C$3:C$290,SETUP!A15),"") | M20: =IF(SUMIF(C$3:C$290,SETUP!A15,E$3:E$290)>0.005,-K20/K$4,"") | N20: =IF(SUMIF(C$3:C$290,I20,$E$3:$E$290)>0.005,K20/L20,"")
D21: =IF(SETUP!$B$134<>"",SETUP!$B$134,"") | I21: =IF(SETUP!A16<>"",SETUP!A16,"") | J21: =IF(SETUP!B16<>"",SETUP!B16,"") | K21: =IF(SUMIF(C$3:C$290,SETUP!A16,E$3:E$290)>0.005,SUMIF(C$3:C$290,SETUP!A16,E$3:E$290),"") | L21: =IF(COUNTIF(C$3:C$290,SETUP!A16)>0.005,COUNTIF(C$3:C$290,SETUP!A16),"") | M21: =IF(SUMIF(C$3:C$290,SETUP!A16,E$3:E$290)>0.005,-K21/K$4,"") | N21: =IF(SUMIF(C$3:C$290,I21,$E$3:$E$290)>0.005,K21/L21,"")
D22: =IF(SETUP!$B$135<>"",SETUP!$B$135,"") | I22: =IF(SETUP!A17<>"",SETUP!A17,"") | J22: =IF(SETUP!B17<>"",SETUP!B17,"") | K22: =IF(SUMIF(C$3:C$290,SETUP!A17,E$3:E$290)>0.005,SUMIF(C$3:C$290,SETUP!A17,E$3:E$290),"") | L22: =IF(COUNTIF(C$3:C$290,SETUP!A17)>0.005,COUNTIF(C$3:C$290,SETUP!A17),"") | M22: =IF(SUMIF(C$3:C$290,SETUP!A17,E$3:E$290)>0.005,-K22/K$4,"") | N22: =IF(SUMIF(C$3:C$290,I22,$E$3:$E$290)>0.005,K22/L22,"")
D23: =IF(SETUP!$B$136<>"",SETUP!$B$136,"") | I23: =IF(SETUP!A18<>"",SETUP!A18,"") | J23: =IF(SETUP!B18<>"",SETUP!B18,"") | K23: =IF(SUMIF(C$3:C$290,SETUP!A18,E$3:E$290)>0.005,SUMIF(C$3:C$290,SETUP!A18,E$3:E$290),"") | L23: =IF(COUNTIF(C$3:C$290,SETUP!A18)>0.005,COUNTIF(C$3:C$290,SETUP!A18),"") | M23: =IF(SUMIF(C$3:C$290,SETUP!A18,E$3:E$290)>0.005,-K23/K$4,"") | N23: =IF(SUMIF(C$3:C$290,I23,$E$3:$E$290)>0.005,K23/L23,"")
D24: =IF(SETUP!$B$137<>"",SETUP!$B$137,"") | I24: =IF(SETUP!A19<>"",SETUP!A19,"") | J24: =IF(SETUP!B19<>"",SETUP!B19,"") | K24: =IF(SUMIF(C$3:C$290,SETUP!A19,E$3:E$290)>0.005,SUMIF(C$3:C$290,SETUP!A19,E$3:E$290),"") | L24: =IF(COUNTIF(C$3:C$290,SETUP!A19)>0.005,COUNTIF(C$3:C$290,SETUP!A19),"") | M24: =IF(SUMIF(C$3:C$290,SETUP!A19,E$3:E$290)>0.005,-K24/K$4,"") | N24: =IF(SUMIF(C$3:C$290,I24,$E$3:$E$290)>0.005,K24/L24,"")
D25: =IF(SETUP!$B$138<>"",SETUP!$B$138,"") | I25: =IF(SETUP!A20<>"",SETUP!A20,"") | J25: =IF(SETUP!B20<>"",SETUP!B20,"") | K25: =IF(SUMIF(C$3:C$290,SETUP!A20,E$3:E$290)>0.005,SUMIF(C$3:C$290,SETUP!A20,E$3:E$290),"") | L25: =IF(COUNTIF(C$3:C$290,SETUP!A20)>0.005,COUNTIF(C$3:C$290,SETUP!A20),"") | M25: =IF(SUMIF(C$3:C$290,SETUP!A20,E$3:E$290)>0.005,-K25/K$4,"") | N25: =IF(SUMIF(C$3:C$290,I25,$E$3:$E$290)>0.005,K25/L25,"") | O25: Expenditures
D26: =IF(SETUP!$B$139<>"",SETUP!$B$139,"Blue spaces reserved for repeating monthly items") -> Blue spaces reserved for repeating monthly items | I26: =IF(SETUP!A21<>"",SETUP!A21,"") | J26: =IF(SETUP!B21<>"",SETUP!B21,"") | K26: =IF(SUMIF(C$3:C$290,SETUP!A21,E$3:E$290)>0.005,SUMIF(C$3:C$290,SETUP!A21,E$3:E$290),"") | L26: =IF(COUNTIF(C$3:C$290,SETUP!A21)>0.005,COUNTIF(C$3:C$290,SETUP!A21),"") | M26: =IF(SUMIF(C$3:C$290,SETUP!A21,E$3:E$290)>0.005,-K26/K$4,"") | N26: =IF(SUMIF(C$3:C$290,I26,$E$3:$E$290)>0.005,K26/L26,"")
I27: =IF(SETUP!A22<>"",SETUP!A22,"") | J27: =IF(SETUP!B22<>"",SETUP!B22,"") | K27: =IF(SUMIF(C$3:C$290,SETUP!A22,E$3:E$290)>0.005,SUMIF(C$3:C$290,SETUP!A22,E$3:E$290),"") | L27: =IF(COUNTIF(C$3:C$290,SETUP!A22)>0.005,COUNTIF(C$3:C$290,SETUP!A22),"") | M27: =IF(SUMIF(C$3:C$290,SETUP!A22,E$3:E$290)>0.005,-K27/K$4,"") | N27: =IF(SUMIF(C$3:C$290,I27,$E$3:$E$290)>0.005,K27/L27,"")
I28: =IF(SETUP!A23<>"",SETUP!A23,"") | J28: =IF(SETUP!B23<>"",SETUP!B23,"") | K28: =IF(SUMIF(C$3:C$290,SETUP!A23,E$3:E$290)>0.005,SUMIF(C$3:C$290,SETUP!A23,E$3:E$290),"") | L28: =IF(COUNTIF(C$3:C$290,SETUP!A23)>0.005,COUNTIF(C$3:C$290,SETUP!A23),"") | M28: =IF(SUMIF(C$3:C$290,SETUP!A23,E$3:E$290)>0.005,-K28/K$4,"") | N28: =IF(SUMIF(C$3:C$290,I28,$E$3:$E$290)>0.005,K28/L28,"")
I29: =IF(SETUP!A24<>"",SETUP!A24,"") | J29: =IF(SETUP!B24<>"",SETUP!B24,"") | K29: =IF(SUMIF(C$3:C$290,SETUP!A24,E$3:E$290)>0.005,SUMIF(C$3:C$290,SETUP!A24,E$3:E$290),"") | L29: =IF(COUNTIF(C$3:C$290,SETUP!A24)>0.005,COUNTIF(C$3:C$290,SETUP!A24),"") | M29: =IF(SUMIF(C$3:C$290,SETUP!A24,E$3:E$290)>0.005,-K29/K$4,"") | N29: =IF(SUMIF(C$3:C$290,I29,$E$3:$E$290)>0.005,K29/L29,"")
I30: =IF(SETUP!A25<>"",SETUP!A25,"") | J30: =IF(SETUP!B25<>"",SETUP!B25,"") | K30: =IF(SUMIF(C$3:C$290,SETUP!A25,E$3:E$290)>0.005,SUMIF(C$3:C$290,SETUP!A25,E$3:E$290),"") | L30: =IF(COUNTIF(C$3:C$290,SETUP!A25)>0.005,COUNTIF(C$3:C$290,SETUP!A25),"") | M30: =IF(SUMIF(C$3:C$290,SETUP!A25,E$3:E$290)>0.005,-K30/K$4,"") | N30: =IF(SUMIF(C$3:C$290,I30,$E$3:$E$290)>0.005,K30/L30,"")
I31: =IF(SETUP!A26<>"",SETUP!A26,"") | J31: =IF(SETUP!B26<>"",SETUP!B26,"") | K31: =IF(SUMIF(C$3:C$290,SETUP!A26,E$3:E$290)>0.005,SUMIF(C$3:C$290,SETUP!A26,E$3:E$290),"") | L31: =IF(COUNTIF(C$3:C$290,SETUP!A26)>0.005,COUNTIF(C$3:C$290,SETUP!A26),"") | M31: =IF(SUMIF(C$3:C$290,SETUP!A26,E$3:E$290)>0.005,-K31/K$4,"") | N31: =IF(SUMIF(C$3:C$290,I31,$E$3:$E$290)>0.005,K31/L31,"") | P31: Copyright by Minh Tan 2012 - digitalcitizen.ca
I32: =IF(SETUP!A27<>"",SETUP!A27,"") | J32: =IF(SETUP!B27<>"",SETUP!B27,"") | K32: =IF(SUMIF(C$3:C$290,SETUP!A27,E$3:E$290)>0.005,SUMIF(C$3:C$290,SETUP!A27,E$3:E$290),"") | L32: =IF(COUNTIF(C$3:C$290,SETUP!A27)>0.005,COUNTIF(C$3:C$290,SETUP!A27),"") | M32: =IF(SUMIF(C$3:C$290,SETUP!A27,E$3:E$290)>0.005,-K32/K$4,"") | N32: =IF(SUMIF(C$3:C$290,I32,$E$3:$E$290)>0.005,K32/L32,"")
I33: =IF(SETUP!A28<>"",SETUP!A28,"") | J33: =IF(SETUP!B28<>"",SETUP!B28,"") | K33: =IF(SUMIF(C$3:C$290,SETUP!A28,E$3:E$290)>0.005,SUMIF(C$3:C$290,SETUP!A28,E$3:E$290),"") | L33: =IF(COUNTIF(C$3:C$290,SETUP!A28)>0.005,COUNTIF(C$3:C$290,SETUP!A28),"") | M33: =IF(SUMIF(C$3:C$290,SETUP!A28,E$3:E$290)>0.005,-K33/K$4,"") | N33: =IF(SUMIF(C$3:C$290,I33,$E$3:$E$290)>0.005,K33/L33,"")
I34: =IF(SETUP!A29<>"",SETUP!A29,"") | J34: =IF(SETUP!B29<>"",SETUP!B29,"") | K34: =IF(SUMIF(C$3:C$290,SETUP!A29,E$3:E$290)>0.005,SUMIF(C$3:C$290,SETUP!A29,E$3:E$290),"") | L34: =IF(COUNTIF(C$3:C$290,SETUP!A29)>0.005,COUNTIF(C$3:C$290,SETUP!A29),"") | M34: =IF(SUMIF(C$3:C$290,SETUP!A29,E$3:E$290)>0.005,-K34/K$4,"") | N34: =IF(SUMIF(C$3:C$290,I34,$E$3:$E$290)>0.005,K34/L34,"")
I35: =IF(SETUP!A30<>"",SETUP!A30,"") | J35: =IF(SETUP!B30<>"",SETUP!B30,"") | K35: =IF(SUMIF(C$3:C$290,SETUP!A30,E$3:E$290)>0.005,SUMIF(C$3:C$290,SETUP!A30,E$3:E$290),"") | L35: =IF(COUNTIF(C$3:C$290,SETUP!A30)>0.005,COUNTIF(C$3:C$290,SETUP!A30),"") | M35: =IF(SUMIF(C$3:C$290,SETUP!A30,E$3:E$290)>0.005,-K35/K$4,"") | N35: =IF(SUMIF(C$3:C$290,I35,$E$3:$E$290)>0.005,K35/L35,"")
I36: =IF(SETUP!A31<>"",SETUP!A31,"") | J36: =IF(SETUP!B31<>"",SETUP!B31,"") | K36: =IF(SUMIF(C$3:C$290,SETUP!A31,E$3:E$290)>0.005,SUMIF(C$3:C$290,SETUP!A31,E$3:E$290),"") | L36: =IF(COUNTIF(C$3:C$290,SETUP!A31)>0.005,COUNTIF(C$3:C$290,SETUP!A31),"") | M36: =IF(SUMIF(C$3:C$290,SETUP!A31,E$3:E$290)>0.005,-K36/K$4,"") | N36: =IF(SUMIF(C$3:C$290,I36,$E$3:$E$290)>0.005,K36/L36,"")
I37: =IF(SETUP!A32<>"",SETUP!A32,"") | J37: =IF(SETUP!B32<>"",SETUP!B32,"") | K37: =IF(SUMIF(C$3:C$290,SETUP!A32,E$3:E$290)>0.005,SUMIF(C$3:C$290,SETUP!A32,E$3:E$290),"") | L37: =IF(COUNTIF(C$3:C$290,SETUP!A32)>0.005,COUNTIF(C$3:C$290,SETUP!A32),"") | M37: =IF(SUMIF(C$3:C$290,SETUP!A32,E$3:E$290)>0.005,-K37/K$4,"") | N37: =IF(SUMIF(C$3:C$290,I37,$E$3:$E$290)>0.005,K37/L37,"")
I38: =IF(SETUP!A33<>"",SETUP!A33,"") | J38: =IF(SETUP!B33<>"",SETUP!B33,"") | K38: =IF(SUMIF(C$3:C$290,SETUP!A33,E$3:E$290)>0.005,SUMIF(C$3:C$290,SETUP!A33,E$3:E$290),"") | L38: =IF(COUNTIF(C$3:C$290,SETUP!A33)>0.005,COUNTIF(C$3:C$290,SETUP!A33),"") | M38: =IF(SUMIF(C$3:C$290,SETUP!A33,E$3:E$290)>0.005,-K38/K$4,"") | N38: =IF(SUMIF(C$3:C$290,I38,$E$3:$E$290)>0.005,K38/L38,"")
I39: =IF(SETUP!A34<>"",SETUP!A34,"") | J39: =IF(SETUP!B34<>"",SETUP!B34,"") | K39: =IF(SUMIF(C$3:C$290,SETUP!A34,E$3:E$290)>0.005,SUMIF(C$3:C$290,SETUP!A34,E$3:E$290),"") | L39: =IF(COUNTIF(C$3:C$290,SETUP!A34)>0.005,COUNTIF(C$3:C$290,SETUP!A34),"") | M39: =IF(SUMIF(C$3:C$290,SETUP!A34,E$3:E$290)>0.005,-K39/K$4,"") | N39: =IF(SUMIF(C$3:C$290,I39,$E$3:$E$290)>0.005,K39/L39,"")
I40: =IF(SETUP!A35<>"",SETUP!A35,"") | J40: =IF(SETUP!B35<>"",SETUP!B35,"") | K40: =IF(SUMIF(C$3:C$290,SETUP!A35,E$3:E$290)>0.005,SUMIF(C$3:C$290,SETUP!A35,E$3:E$290),"") | L40: =IF(COUNTIF(C$3:C$290,SETUP!A35)>0.005,COUNTIF(C$3:C$290,SETUP!A35),"") | M40: =IF(SUMIF(C$3:C$290,SETUP!A35,E$3:E$290)>0.005,-K40/K$4,"") | N40: =IF(SUMIF(C$3:C$290,I40,$E$3:$E$290)>0.005,K40/L40,"")
...

Sheet FEB
A1: Date | B1: Met | C1: Cat | D1: Transaction Description (February) | E1: Spent | F1: Earned | G1: =SETUP!H89 -> X | I1: CATEGORIES | K1: Amount | L1: # Trans | M1: % | N1: Avg per Trans | P1: Copyright by Minh Tan 2012 - digitalcitizen.ca
D2: Starting Balance | E2: =IF(SETUP!H83=2,SETUP!E96,JAN!K6)
D3: =IF(SETUP!$B$116<>"",SETUP!$B$116,"") | J3: INCOME | K3: =IF(SUM(F3:F290)>0.005,SUM(F3:F290),"") | L3: =IF(COUNTIF(F3:F290,">0.005")>0.005,COUNTIF(F3:F290,">0.005"),"") | N3: =IF(SUM(F3:F290)>0.005,K3/L3,"")
D4: =IF(SETUP!$B$117<>"",SETUP!$B$117,"") | J4: EXPENDITURES | K4: =IF(SUM(E3:E290)>0.005,-SUM(E3:E290),"") | L4: =IF(COUNTIF(E3:E290,">0.005")>0.005,COUNTIF(E3:E290,">0.005"),"") | M4: =IF(ISERROR(IF(K3>1,-K4/K3,"")),"",K4/K3) | N4: =IF(SUM(E3:E290)>0.005,K4/L4,"")
D5: =IF(SETUP!$B$118<>"",SETUP!$B$118,"") | J5: NET | K5: =IF(OR(SUM(F3:F290)>0.005,K4<-0.005),SUM(K3:K4),"") | L5: =IF(OR(-SUM(F3:F290)-SUM(E3:E290)>0.005,SUM(F3:F290)-SUM(K60:K69)>0.005,-SUM(E3:E290)-SUM(K83:K85)>0.005),("Check unclassified entries in "&IF(-SUM(K8:K52)-K4>0.005,"Expenditures ","")&IF(K3-SUM(K60:K69)>0.005,"Income ","")&IF(-K4-SUM(K83:K85)>0.005,"Payment","")),"")
D6: =IF(SETUP!$B$119<>"",SETUP!$B$119,"") | J6: CURRENT BALANCE | K6: =IF(OR(SUM(F3:F290)>0.005,K4<-0.005),SUM(E2,K5),"")
D7: =IF(SETUP!$B$120<>"",SETUP!$B$120,"") | J7: POORLY SPENT | K7: =IF(SUM(G3:G290)>0.005,-SUM(G3:G290),"") | L7: =IF(COUNTIF(G3:G290,">0.005")>0.005,COUNTIF(G3:G290,">0.005"),"") | M7: =IF(SUM(G3:G290)>0.005,K7/K4,"") | N7: =IF(K7<0,K7/L7,"")
D8: =IF(SETUP!$B$121<>"",SETUP!$B$121,"") | I8: =IF(SETUP!A3<>"",SETUP!A3,"") | J8: =IF(SETUP!B3<>"",SETUP!B3,"") | K8: =IF(SUMIF(C$3:C$290,SETUP!A3,E$3:E$290)>0.005,SUMIF(C$3:C$290,SETUP!A3,E$3:E$290),"") | L8: =IF(COUNTIF(C$3:C$290,SETUP!A3)>0.005,COUNTIF(C$3:C$290,SETUP!A3),"") | M8: =IF(SUMIF(C$3:C$290,SETUP!A3,E$3:E$290)>0.005,-K8/K$4,"") | N8: =IF(SUMIF(C$3:C$290,I8,$E$3:$E$290)>0.005,K8/L8,"") | O8: Expenditures
D9: =IF(SETUP!$B$122<>"",SETUP!$B$122,"") | I9: =IF(SETUP!A4<>"",SETUP!A4,"") | J9: =IF(SETUP!B4<>"",SETUP!B4,"") | K9: =IF(SUMIF(C$3:C$290,SETUP!A4,E$3:E$290)>0.005,SUMIF(C$3:C$290,SETUP!A4,E$3:E$290),"") | L9: =IF(COUNTIF(C$3:C$290,SETUP!A4)>0.005,COUNTIF(C$3:C$290,SETUP!A4),"") | M9: =IF(SUMIF(C$3:C$290,SETUP!A4,E$3:E$290)>0.005,-K9/K$4,"") | N9: =IF(SUMIF(C$3:C$290,I9,$E$3:$E$290)>0.005,K9/L9,"")
D10: =IF(SETUP!$B$123<>"",SETUP!$B$123,"") | I10: =IF(SETUP!A5<>"",SETUP!A5,"") | J10: =IF(SETUP!B5<>"",SETUP!B5,"") | K10: =IF(SUMIF(C$3:C$290,SETUP!A5,E$3:E$290)>0.005,SUMIF(C$3:C$290,SETUP!A5,E$3:E$290),"") | L10: =IF(COUNTIF(C$3:C$290,SETUP!A5)>0.005,COUNTIF(C$3:C$290,SETUP!A5),"") | M10: =IF(SUMIF(C$3:C$290,SETUP!A5,E$3:E$290)>0.005,-K10/K$4,"") | N10: =IF(SUMIF(C$3:C$290,I10,$E$3:$E$290)>0.005,K10/L10,"")
D11: =IF(SETUP!$B$124<>"",SETUP!$B$124,"") | I11: =IF(SETUP!A6<>"",SETUP!A6,"") | J11: =IF(SETUP!B6<>"",SETUP!B6,"") | K11: =IF(SUMIF(C$3:C$290,SETUP!A6,E$3:E$290)>0.005,SUMIF(C$3:C$290,SETUP!A6,E$3:E$290),"") | L11: =IF(COUNTIF(C$3:C$290,SETUP!A6)>0.005,COUNTIF(C$3:C$290,SETUP!A6),"") | M11: =IF(SUMIF(C$3:C$290,SETUP!A6,E$3:E$290)>0.005,-K11/K$4,"") | N11: =IF(SUMIF(C$3:C$290,I11,$E$3:$E$290)>0.005,K11/L11,"")
D12: =IF(SETUP!$B$125<>"",SETUP!$B$125,"") | I12: =IF(SETUP!A7<>"",SETUP!A7,"") | J12: =IF(SETUP!B7<>"",SETUP!B7,"") | K12: =IF(SUMIF(C$3:C$290,SETUP!A7,E$3:E$290)>0.005,SUMIF(C$3:C$290,SETUP!A7,E$3:E$290),"") | L12: =IF(COUNTIF(C$3:C$290,SETUP!A7)>0.005,COUNTIF(C$3:C$290,SETUP!A7),"") | M12: =IF(SUMIF(C$3:C$290,SETUP!A7,E$3:E$290)>0.005,-K12/K$4,"") | N12: =IF(SUMIF(C$3:C$290,I12,$E$3:$E$290)>0.005,K12/L12,"")
D13: =IF(SETUP!$B$126<>"",SETUP!$B$126,"") | I13: =IF(SETUP!A8<>"",SETUP!A8,"") | J13: =IF(SETUP!B8<>"",SETUP!B8,"") | K13: =IF(SUMIF(C$3:C$290,SETUP!A8,E$3:E$290)>0.005,SUMIF(C$3:C$290,SETUP!A8,E$3:E$290),"") | L13: =IF(COUNTIF(C$3:C$290,SETUP!A8)>0.005,COUNTIF(C$3:C$290,SETUP!A8),"") | M13: =IF(SUMIF(C$3:C$290,SETUP!A8,E$3:E$290)>0.005,-K13/K$4,"") | N13: =IF(SUMIF(C$3:C$290,I13,$E$3:$E$290)>0.005,K13/L13,"")
D14: =IF(SETUP!$B$127<>"",SETUP!$B$127,"") | I14: =IF(SETUP!A9<>"",SETUP!A9,"") | J14: =IF(SETUP!B9<>"",SETUP!B9,"") | K14: =IF(SUMIF(C$3:C$290,SETUP!A9,E$3:E$290)>0.005,SUMIF(C$3:C$290,SETUP!A9,E$3:E$290),"") | L14: =IF(COUNTIF(C$3:C$290,SETUP!A9)>0.005,COUNTIF(C$3:C$290,SETUP!A9),"") | M14: =IF(SUMIF(C$3:C$290,SETUP!A9,E$3:E$290)>0.005,-K14/K$4,"") | N14: =IF(SUMIF(C$3:C$290,I14,$E$3:$E$290)>0.005,K14/L14,"")
D15: =IF(SETUP!$B$128<>"",SETUP!$B$128,"") | I15: =IF(SETUP!A10<>"",SETUP!A10,"") | J15: =IF(SETUP!B10<>"",SETUP!B10,"") | K15: =IF(SUMIF(C$3:C$290,SETUP!A10,E$3:E$290)>0.005,SUMIF(C$3:C$290,SETUP!A10,E$3:E$290),"") | L15: =IF(COUNTIF(C$3:C$290,SETUP!A10)>0.005,COUNTIF(C$3:C$290,SETUP!A10),"") | M15: =IF(SUMIF(C$3:C$290,SETUP!A10,E$3:E$290)>0.005,-K15/K$4,"") | N15: =IF(SUMIF(C$3:C$290,I15,$E$3:$E$290)>0.005,K15/L15,"")
D16: =IF(SETUP!$B$129<>"",SETUP!$B$129,"") | I16: =IF(SETUP!A11<>"",SETUP!A11,"") | J16: =IF(SETUP!B11<>"",SETUP!B11,"") | K16: =IF(SUMIF(C$3:C$290,SETUP!A11,E$3:E$290)>0.005,SUMIF(C$3:C$290,SETUP!A11,E$3:E$290),"") | L16: =IF(COUNTIF(C$3:C$290,SETUP!A11)>0.005,COUNTIF(C$3:C$290,SETUP!A11),"") | M16: =IF(SUMIF(C$3:C$290,SETUP!A11,E$3:E$290)>0.005,-K16/K$4,"") | N16: =IF(SUMIF(C$3:C$290,I16,$E$3:$E$290)>0.005,K16/L16,"") | P16: Copyright by Minh Tan 2012 - digitalcitizen.ca
D17: =IF(SETUP!$B$130<>"",SETUP!$B$130,"") | I17: =IF(SETUP!A12<>"",SETUP!A12,"") | J17: =IF(SETUP!B12<>"",SETUP!B12,"") | K17: =IF(SUMIF(C$3:C$290,SETUP!A12,E$3:E$290)>0.005,SUMIF(C$3:C$290,SETUP!A12,E$3:E$290),"") | L17: =IF(COUNTIF(C$3:C$290,SETUP!A12)>0.005,COUNTIF(C$3:C$290,SETUP!A12),"") | M17: =IF(SUMIF(C$3:C$290,SETUP!A12,E$3:E$290)>0.005,-K17/K$4,"") | N17: =IF(SUMIF(C$3:C$290,I17,$E$3:$E$290)>0.005,K17/L17,"")
D18: =IF(SETUP!$B$131<>"",SETUP!$B$131,"") | I18: =IF(SETUP!A13<>"",SETUP!A13,"") | J18: =IF(SETUP!B13<>"",SETUP!B13,"") | K18: =IF(SUMIF(C$3:C$290,SETUP!A13,E$3:E$290)>0.005,SUMIF(C$3:C$290,SETUP!A13,E$3:E$290),"") | L18: =IF(COUNTIF(C$3:C$290,SETUP!A13)>0.005,COUNTIF(C$3:C$290,SETUP!A13),"") | M18: =IF(SUMIF(C$3:C$290,SETUP!A13,E$3:E$290)>0.005,-K18/K$4,"") | N18: =IF(SUMIF(C$3:C$290,I18,$E$3:$E$290)>0.005,K18/L18,"")
D19: =IF(SETUP!$B$132<>"",SETUP!$B$132,"") | I19: =IF(SETUP!A14<>"",SETUP!A14,"") | J19: =IF(SETUP!B14<>"",SETUP!B14,"") | K19: =IF(SUMIF(C$3:C$290,SETUP!A14,E$3:E$290)>0.005,SUMIF(C$3:C$290,SETUP!A14,E$3:E$290),"") | L19: =IF(COUNTIF(C$3:C$290,SETUP!A14)>0.005,COUNTIF(C$3:C$290,SETUP!A14),"") | M19: =IF(SUMIF(C$3:C$290,SETUP!A14,E$3:E$290)>0.005,-K19/K$4,"") | N19: =IF(SUMIF(C$3:C$290,I19,$E$3:$E$290)>0.005,K19/L19,"")
D20: =IF(SETUP!$B$133<>"",SETUP!$B$133,"") | I20: =IF(SETUP!A15<>"",SETUP!A15,"") | J20: =IF(SETUP!B15<>"",SETUP!B15,"") | K20: =IF(SUMIF(C$3:C$290,SETUP!A15,E$3:E$290)>0.005,SUMIF(C$3:C$290,SETUP!A15,E$3:E$290),"") | L20: =IF(COUNTIF(C$3:C$290,SETUP!A15)>0.005,COUNTIF(C$3:C$290,SETUP!A15),"") | M20: =IF(SUMIF(C$3:C$290,SETUP!A15,E$3:E$290)>0.005,-K20/K$4,"") | N20: =IF(SUMIF(C$3:C$290,I20,$E$3:$E$290)>0.005,K20/L20,"")
D21: =IF(SETUP!$B$134<>"",SETUP!$B$134,"") | I21: =IF(SETUP!A16<>"",SETUP!A16,"") | J21: =IF(SETUP!B16<>"",SETUP!B16,"") | K21: =IF(SUMIF(C$3:C$290,SETUP!A16,E$3:E$290)>0.005,SUMIF(C$3:C$290,SETUP!A16,E$3:E$290),"") | L21: =IF(COUNTIF(C$3:C$290,SETUP!A16)>0.005,COUNTIF(C$3:C$290,SETUP!A16),"") | M21: =IF(SUMIF(C$3:C$290,SETUP!A16,E$3:E$290)>0.005,-K21/K$4,"") | N21: =IF(SUMIF(C$3:C$290,I21,$E$3:$E$290)>0.005,K21/L21,"")
D22: =IF(SETUP!$B$135<>"",SETUP!$B$135,"") | I22: =IF(SETUP!A17<>"",SETUP!A17,"") | J22: =IF(SETUP!B17<>"",SETUP!B17,"") | K22: =IF(SUMIF(C$3:C$290,SETUP!A17,E$3:E$290)>0.005,SUMIF(C$3:C$290,SETUP!A17,E$3:E$290),"") | L22: =IF(COUNTIF(C$3:C$290,SETUP!A17)>0.005,COUNTIF(C$3:C$290,SETUP!A17),"") | M22: =IF(SUMIF(C$3:C$290,SETUP!A17,E$3:E$290)>0.005,-K22/K$4,"") | N22: =IF(SUMIF(C$3:C$290,I22,$E$3:$E$290)>0.005,K22/L22,"")
D23: =IF(SETUP!$B$136<>"",SETUP!$B$136,"") | I23: =IF(SETUP!A18<>"",SETUP!A18,"") | J23: =IF(SETUP!B18<>"",SETUP!B18,"") | K23: =IF(SUMIF(C$3:C$290,SETUP!A18,E$3:E$290)>0.005,SUMIF(C$3:C$290,SETUP!A18,E$3:E$290),"") | L23: =IF(COUNTIF(C$3:C$290,SETUP!A18)>0.005,COUNTIF(C$3:C$290,SETUP!A18),"") | M23: =IF(SUMIF(C$3:C$290,SETUP!A18,E$3:E$290)>0.005,-K23/K$4,"") | N23: =IF(SUMIF(C$3:C$290,I23,$E$3:$E$290)>0.005,K23/L23,"")
D24: =IF(SETUP!$B$137<>"",SETUP!$B$137,"") | I24: =IF(SETUP!A19<>"",SETUP!A19,"") | J24: =IF(SETUP!B19<>"",SETUP!B19,"") | K24: =IF(SUMIF(C$3:C$290,SETUP!A19,E$3:E$290)>0.005,SUMIF(C$3:C$290,SETUP!A19,E$3:E$290),"") | L24: =IF(COUNTIF(C$3:C$290,SETUP!A19)>0.005,COUNTIF(C$3:C$290,SETUP!A19),"") | M24: =IF(SUMIF(C$3:C$290,SETUP!A19,E$3:E$290)>0.005,-K24/K$4,"") | N24: =IF(SUMIF(C$3:C$290,I24,$E$3:$E$290)>0.005,K24/L24,"")
D25: =IF(SETUP!$B$138<>"",SETUP!$B$138,"") | I25: =IF(SETUP!A20<>"",SETUP!A20,"") | J25: =IF(SETUP!B20<>"",SETUP!B20,"") | K25: =IF(SUMIF(C$3:C$290,SETUP!A20,E$3:E$290)>0.005,SUMIF(C$3:C$290,SETUP!A20,E$3:E$290),"") | L25: =IF(COUNTIF(C$3:C$290,SETUP!A20)>0.005,COUNTIF(C$3:C$290,SETUP!A20),"") | M25: =IF(SUMIF(C$3:C$290,SETUP!A20,E$3:E$290)>0.005,-K25/K$4,"") | N25: =IF(SUMIF(C$3:C$290,I25,$E$3:$E$290)>0.005,K25/L25,"") | O25: Expenditures
D26: =IF(SETUP!$B$139<>"",SETUP!$B$139,"Blue spaces reserved for repeating monthly items") -> Blue spaces reserved for repeating monthly items | I26: =IF(SETUP!A21<>"",SETUP!A21,"") | J26: =IF(SETUP!B21<>"",SETUP!B21,"") | K26: =IF(SUMIF(C$3:C$290,SETUP!A21,E$3:E$290)>0.005,SUMIF(C$3:C$290,SETUP!A21,E$3:E$290),"") | L26: =IF(COUNTIF(C$3:C$290,SETUP!A21)>0.005,COUNTIF(C$3:C$290,SETUP!A21),"") | M26: =IF(SUMIF(C$3:C$290,SETUP!A21,E$3:E$290)>0.005,-K26/K$4,"") | N26: =IF(SUMIF(C$3:C$290,I26,$E$3:$E$290)>0.005,K26/L26,"")
I27: =IF(SETUP!A22<>"",SETUP!A22,"") | J27: =IF(SETUP!B22<>"",SETUP!B22,"") | K27: =IF(SUMIF(C$3:C$290,SETUP!A22,E$3:E$290)>0.005,SUMIF(C$3:C$290,SETUP!A22,E$3:E$290),"") | L27: =IF(COUNTIF(C$3:C$290,SETUP!A22)>0.005,COUNTIF(C$3:C$290,SETUP!A22),"") | M27: =IF(SUMIF(C$3:C$290,SETUP!A22,E$3:E$290)>0.005,-K27/K$4,"") | N27: =IF(SUMIF(C$3:C$290,I27,$E$3:$E$290)>0.005,K27/L27,"")
I28: =IF(SETUP!A23<>"",SETUP!A23,"") | J28: =IF(SETUP!B23<>"",SETUP!B23,"") | K28: =IF(SUMIF(C$3:C$290,SETUP!A23,E$3:E$290)>0.005,SUMIF(C$3:C$290,SETUP!A23,E$3:E$290),"") | L28: =IF(COUNTIF(C$3:C$290,SETUP!A23)>0.005,COUNTIF(C$3:C$290,SETUP!A23),"") | M28: =IF(SUMIF(C$3:C$290,SETUP!A23,E$3:E$290)>0.005,-K28/K$4,"") | N28: =IF(SUMIF(C$3:C$290,I28,$E$3:$E$290)>0.005,K28/L28,"")
I29: =IF(SETUP!A24<>"",SETUP!A24,"") | J29: =IF(SETUP!B24<>"",SETUP!B24,"") | K29: =IF(SUMIF(C$3:C$290,SETUP!A24,E$3:E$290)>0.005,SUMIF(C$3:C$290,SETUP!A24,E$3:E$290),"") | L29: =IF(COUNTIF(C$3:C$290,SETUP!A24)>0.005,COUNTIF(C$3:C$290,SETUP!A24),"") | M29: =IF(SUMIF(C$3:C$290,SETUP!A24,E$3:E$290)>0.005,-K29/K$4,"") | N29: =IF(SUMIF(C$3:C$290,I29,$E$3:$E$290)>0.005,K29/L29,"")
I30: =IF(SETUP!A25<>"",SETUP!A25,"") | J30: =IF(SETUP!B25<>"",SETUP!B25,"") | K30: =IF(SUMIF(C$3:C$290,SETUP!A25,E$3:E$290)>0.005,SUMIF(C$3:C$290,SETUP!A25,E$3:E$290),"") | L30: =IF(COUNTIF(C$3:C$290,SETUP!A25)>0.005,COUNTIF(C$3:C$290,SETUP!A25),"") | M30: =IF(SUMIF(C$3:C$290,SETUP!A25,E$3:E$290)>0.005,-K30/K$4,"") | N30: =IF(SUMIF(C$3:C$290,I30,$E$3:$E$290)>0.005,K30/L30,"")
I31: =IF(SETUP!A26<>"",SETUP!A26,"") | J31: =IF(SETUP!B26<>"",SETUP!B26,"") | K31: =IF(SUMIF(C$3:C$290,SETUP!A26,E$3:E$290)>0.005,SUMIF(C$3:C$290,SETUP!A26,E$3:E$290),"") | L31: =IF(COUNTIF(C$3:C$290,SETUP!A26)>0.005,COUNTIF(C$3:C$290,SETUP!A26),"") | M31: =IF(SUMIF(C$3:C$290,SETUP!A26,E$3:E$290)>0.005,-K31/K$4,"") | N31: =IF(SUMIF(C$3:C$290,I31,$E$3:$E$290)>0.005,K31/L31,"") | P31: Copyright by Minh Tan 2012 - digitalcitizen.ca
I32: =IF(SETUP!A27<>"",SETUP!A27,"") | J32: =IF(SETUP!B27<>"",SETUP!B27,"") | K32: =IF(SUMIF(C$3:C$290,SETUP!A27,E$3:E$290)>0.005,SUMIF(C$3:C$290,SETUP!A27,E$3:E$290),"") | L32: =IF(COUNTIF(C$3:C$290,SETUP!A27)>0.005,COUNTIF(C$3:C$290,SETUP!A27),"") | M32: =IF(SUMIF(C$3:C$290,SETUP!A27,E$3:E$290)>0.005,-K32/K$4,"") | N32: =IF(SUMIF(C$3:C$290,I32,$E$3:$E$290)>0.005,K32/L32,"")
I33: =IF(SETUP!A28<>"",SETUP!A28,"") | J33: =IF(SETUP!B28<>"",SETUP!B28,"") | K33: =IF(SUMIF(C$3:C$290,SETUP!A28,E$3:E$290)>0.005,SUMIF(C$3:C$290,SETUP!A28,E$3:E$290),"") | L33: =IF(COUNTIF(C$3:C$290,SETUP!A28)>0.005,COUNTIF(C$3:C$290,SETUP!A28),"") | M33: =IF(SUMIF(C$3:C$290,SETUP!A28,E$3:E$290)>0.005,-K33/K$4,"") | N33: =IF(SUMIF(C$3:C$290,I33,$E$3:$E$290)>0.005,K33/L33,"")
I34: =IF(SETUP!A29<>"",SETUP!A29,"") | J34: =IF(SETUP!B29<>"",SETUP!B29,"") | K34: =IF(SUMIF(C$3:C$290,SETUP!A29,E$3:E$290)>0.005,SUMIF(C$3:C$290,SETUP!A29,E$3:E$290),"") | L34: =IF(COUNTIF(C$3:C$290,SETUP!A29)>0.005,COUNTIF(C$3:C$290,SETUP!A29),"") | M34: =IF(SUMIF(C$3:C$290,SETUP!A29,E$3:E$290)>0.005,-K34/K$4,"") | N34: =IF(SUMIF(C$3:C$290,I34,$E$3:$E$290)>0.005,K34/L34,"")
I35: =IF(SETUP!A30<>"",SETUP!A30,"") | J35: =IF(SETUP!B30<>"",SETUP!B30,"") | K35: =IF(SUMIF(C$3:C$290,SETUP!A30,E$3:E$290)>0.005,SUMIF(C$3:C$290,SETUP!A30,E$3:E$290),"") | L35: =IF(COUNTIF(C$3:C$290,SETUP!A30)>0.005,COUNTIF(C$3:C$290,SETUP!A30),"") | M35: =IF(SUMIF(C$3:C$290,SETUP!A30,E$3:E$290)>0.005,-K35/K$4,"") | N35: =IF(SUMIF(C$3:C$290,I35,$E$3:$E$290)>0.005,K35/L35,"")
I36: =IF(SETUP!A31<>"",SETUP!A31,"") | J36: =IF(SETUP!B31<>"",SETUP!B31,"") | K36: =IF(SUMIF(C$3:C$290,SETUP!A31,E$3:E$290)>0.005,SUMIF(C$3:C$290,SETUP!A31,E$3:E$290),"") | L36: =IF(COUNTIF(C$3:C$290,SETUP!A31)>0.005,COUNTIF(C$3:C$290,SETUP!A31),"") | M36: =IF(SUMIF(C$3:C$290,SETUP!A31,E$3:E$290)>0.005,-K36/K$4,"") | N36: =IF(SUMIF(C$3:C$290,I36,$E$3:$E$290)>0.005,K36/L36,"")
I37: =IF(SETUP!A32<>"",SETUP!A32,"") | J37: =IF(SETUP!B32<>"",SETUP!B32,"") | K37: =IF(SUMIF(C$3:C$290,SETUP!A32,E$3:E$290)>0.005,SUMIF(C$3:C$290,SETUP!A32,E$3:E$290),"") | L37: =IF(COUNTIF(C$3:C$290,SETUP!A32)>0.005,COUNTIF(C$3:C$290,SETUP!A32),"") | M37: =IF(SUMIF(C$3:C$290,SETUP!A32,E$3:E$290)>0.005,-K37/K$4,"") | N37: =IF(SUMIF(C$3:C$290,I37,$E$3:$E$290)>0.005,K37/L37,"")
I38: =IF(SETUP!A33<>"",SETUP!A33,"") | J38: =IF(SETUP!B33<>"",SETUP!B33,"") | K38: =IF(SUMIF(C$3:C$290,SETUP!A33,E$3:E$290)>0.005,SUMIF(C$3:C$290,SETUP!A33,E$3:E$290),"") | L38: =IF(COUNTIF(C$3:C$290,SETUP!A33)>0.005,COUNTIF(C$3:C$290,SETUP!A33),"") | M38: =IF(SUMIF(C$3:C$290,SETUP!A33,E$3:E$290)>0.005,-K38/K$4,"") | N38: =IF(SUMIF(C$3:C$290,I38,$E$3:$E$290)>0.005,K38/L38,"")
I39: =IF(SETUP!A34<>"",SETUP!A34,"") | J39: =IF(SETUP!B34<>"",SETUP!B34,"") | K39: =IF(SUMIF(C$3:C$290,SETUP!A34,E$3:E$290)>0.005,SUMIF(C$3:C$290,SETUP!A34,E$3:E$290),"") | L39: =IF(COUNTIF(C$3:C$290,SETUP!A34)>0.005,COUNTIF(C$3:C$290,SETUP!A34),"") | M39: =IF(SUMIF(C$3:C$290,SETUP!A34,E$3:E$290)>0.005,-K39/K$4,"") | N39: =IF(SUMIF(C$3:C$290,I39,$E$3:$E$290)>0.005,K39/L39,"")
I40: =IF(SETUP!A35<>"",SETUP!A35,"") | J40: =IF(SETUP!B35<>"",SETUP!B35,"") | K40: =IF(SUMIF(C$3:C$290,SETUP!A35,E$3:E$290)>0.005,SUMIF(C$3:C$290,SETUP!A35,E$3:E$290),"") | L40: =IF(COUNTIF(C$3:C$290,SETUP!A35)>0.005,COUNTIF(C$3:C$290,SETUP!A35),"") | M40: =IF(SUMIF(C$3:C$290,SETUP!A35,E$3:E$290)>0.005,-K40/K$4,"") | N40: =IF(SUMIF(C$3:C$290,I40,$E$3:$E$290)>0.005,K40/L40,"")
...

Sheet MAR
A1: Date | B1: Met | C1: Cat | D1: Transaction Description (March) | E1: Spent | F1: Earned | G1: =SETUP!H89 -> X | I1: CATEGORIES | K1: Amount | L1: # Trans | M1: % | N1: Avg per Trans | P1: Copyright by Minh Tan 2012 - digitalcitizen.ca
D2: Starting Balance | E2: =IF(SETUP!H83=3,SETUP!E96,FEB!K6)
D3: =IF(SETUP!$B$116<>"",SETUP!$B$116,"") | J3: INCOME | K3: =IF(SUM(F3:F290)>0.005,SUM(F3:F290),"") | L3: =IF(COUNTIF(F3:F290,">0.005")>0.005,COUNTIF(F3:F290,">0.005"),"") | N3: =IF(SUM(F3:F290)>0.005,K3/L3,"")
D4: =IF(SETUP!$B$117<>"",SETUP!$B$117,"") | J4: EXPENDITURES | K4: =IF(SUM(E3:E290)>0.005,-SUM(E3:E290),"") | L4: =IF(COUNTIF(E3:E290,">0.005")>0.005,COUNTIF(E3:E290,">0.005"),"") | M4: =IF(ISERROR(IF(K3>1,-K4/K3,"")),"",K4/K3) | N4: =IF(SUM(E3:E290)>0.005,K4/L4,"")
D5: =IF(SETUP!$B$118<>"",SETUP!$B$118,"") | J5: NET | K5: =IF(OR(SUM(F3:F290)>0.005,K4<-0.005),SUM(K3:K4),"") | L5: =IF(OR(-SUM(F3:F290)-SUM(E3:E290)>0.005,SUM(F3:F290)-SUM(K60:K69)>0.005,-SUM(E3:E290)-SUM(K83:K85)>0.005),("Check unclassified entries in "&IF(-SUM(K8:K52)-K4>0.005,"Expenditures ","")&IF(K3-SUM(K60:K69)>0.005,"Income ","")&IF(-K4-SUM(K83:K85)>0.005,"Payment","")),"")
D6: =IF(SETUP!$B$119<>"",SETUP!$B$119,"") | J6: CURRENT BALANCE | K6: =IF(OR(SUM(F3:F290)>0.005,K4<-0.005),SUM(E2,K5),"")
D7: =IF(SETUP!$B$120<>"",SETUP!$B$120,"") | J7: POORLY SPENT | K7: =IF(SUM(G3:G290)>0.005,-SUM(G3:G290),"") | L7: =IF(COUNTIF(G3:G290,">0.005")>0.005,COUNTIF(G3:G290,">0.005"),"") | M7: =IF(SUM(G3:G290)>0.005,K7/K4,"") | N7: =IF(K7<0,K7/L7,"")
D8: =IF(SETUP!$B$121<>"",SETUP!$B$121,"") | I8: =IF(SETUP!A3<>"",SETUP!A3,"") | J8: =IF(SETUP!B3<>"",SETUP!B3,"") | K8: =IF(SUMIF(C$3:C$290,SETUP!A3,E$3:E$290)>0.005,SUMIF(C$3:C$290,SETUP!A3,E$3:E$290),"") | L8: =IF(COUNTIF(C$3:C$290,SETUP!A3)>0.005,COUNTIF(C$3:C$290,SETUP!A3),"") | M8: =IF(SUMIF(C$3:C$290,SETUP!A3,E$3:E$290)>0.005,-K8/K$4,"") | N8: =IF(SUMIF(C$3:C$290,I8,$E$3:$E$290)>0.005,K8/L8,"") | O8: Expenditures
D9: =IF(SETUP!$B$122<>"",SETUP!$B$122,"") | I9: =IF(SETUP!A4<>"",SETUP!A4,"") | J9: =IF(SETUP!B4<>"",SETUP!B4,"") | K9: =IF(SUMIF(C$3:C$290,SETUP!A4,E$3:E$290)>0.005,SUMIF(C$3:C$290,SETUP!A4,E$3:E$290),"") | L9: =IF(COUNTIF(C$3:C$290,SETUP!A4)>0.005,COUNTIF(C$3:C$290,SETUP!A4),"") | M9: =IF(SUMIF(C$3:C$290,SETUP!A4,E$3:E$290)>0.005,-K9/K$4,"") | N9: =IF(SUMIF(C$3:C$290,I9,$E$3:$E$290)>0.005,K9/L9,"")
D10: =IF(SETUP!$B$123<>"",SETUP!$B$123,"") | I10: =IF(SETUP!A5<>"",SETUP!A5,"") | J10: =IF(SETUP!B5<>"",SETUP!B5,"") | K10: =IF(SUMIF(C$3:C$290,SETUP!A5,E$3:E$290)>0.005,SUMIF(C$3:C$290,SETUP!A5,E$3:E$290),"") | L10: =IF(COUNTIF(C$3:C$290,SETUP!A5)>0.005,COUNTIF(C$3:C$290,SETUP!A5),"") | M10: =IF(SUMIF(C$3:C$290,SETUP!A5,E$3:E$290)>0.005,-K10/K$4,"") | N10: =IF(SUMIF(C$3:C$290,I10,$E$3:$E$290)>0.005,K10/L10,"")
D11: =IF(SETUP!$B$124<>"",SETUP!$B$124,"") | I11: =IF(SETUP!A6<>"",SETUP!A6,"") | J11: =IF(SETUP!B6<>"",SETUP!B6,"") | K11: =IF(SUMIF(C$3:C$290,SETUP!A6,E$3:E$290)>0.005,SUMIF(C$3:C$290,SETUP!A6,E$3:E$290),"") | L11: =IF(COUNTIF(C$3:C$290,SETUP!A6)>0.005,COUNTIF(C$3:C$290,SETUP!A6),"") | M11: =IF(SUMIF(C$3:C$290,SETUP!A6,E$3:E$290)>0.005,-K11/K$4,"") | N11: =IF(SUMIF(C$3:C$290,I11,$E$3:$E$290)>0.005,K11/L11,"")
D12: =IF(SETUP!$B$125<>"",SETUP!$B$125,"") | I12: =IF(SETUP!A7<>"",SETUP!A7,"") | J12: =IF(SETUP!B7<>"",SETUP!B7,"") | K12: =IF(SUMIF(C$3:C$290,SETUP!A7,E$3:E$290)>0.005,SUMIF(C$3:C$290,SETUP!A7,E$3:E$290),"") | L12: =IF(COUNTIF(C$3:C$290,SETUP!A7)>0.005,COUNTIF(C$3:C$290,SETUP!A7),"") | M12: =IF(SUMIF(C$3:C$290,SETUP!A7,E$3:E$290)>0.005,-K12/K$4,"") | N12: =IF(SUMIF(C$3:C$290,I12,$E$3:$E$290)>0.005,K12/L12,"")
D13: =IF(SETUP!$B$126<>"",SETUP!$B$126,"") | I13: =IF(SETUP!A8<>"",SETUP!A8,"") | J13: =IF(SETUP!B8<>"",SETUP!B8,"") | K13: =IF(SUMIF(C$3:C$290,SETUP!A8,E$3:E$290)>0.005,SUMIF(C$3:C$290,SETUP!A8,E$3:E$290),"") | L13: =IF(COUNTIF(C$3:C$290,SETUP!A8)>0.005,COUNTIF(C$3:C$290,SETUP!A8),"") | M13: =IF(SUMIF(C$3:C$290,SETUP!A8,E$3:E$290)>0.005,-K13/K$4,"") | N13: =IF(SUMIF(C$3:C$290,I13,$E$3:$E$290)>0.005,K13/L13,"")
D14: =IF(SETUP!$B$127<>"",SETUP!$B$127,"") | I14: =IF(SETUP!A9<>"",SETUP!A9,"") | J14: =IF(SETUP!B9<>"",SETUP!B9,"") | K14: =IF(SUMIF(C$3:C$290,SETUP!A9,E$3:E$290)>0.005,SUMIF(C$3:C$290,SETUP!A9,E$3:E$290),"") | L14: =IF(COUNTIF(C$3:C$290,SETUP!A9)>0.005,COUNTIF(C$3:C$290,SETUP!A9),"") | M14: =IF(SUMIF(C$3:C$290,SETUP!A9,E$3:E$290)>0.005,-K14/K$4,"") | N14: =IF(SUMIF(C$3:C$290,I14,$E$3:$E$290)>0.005,K14/L14,"")
D15: =IF(SETUP!$B$128<>"",SETUP!$B$128,"") | I15: =IF(SETUP!A10<>"",SETUP!A10,"") | J15: =IF(SETUP!B10<>"",SETUP!B10,"") | K15: =IF(SUMIF(C$3:C$290,SETUP!A10,E$3:E$290)>0.005,SUMIF(C$3:C$290,SETUP!A10,E$3:E$290),"") | L15: =IF(COUNTIF(C$3:C$290,SETUP!A10)>0.005,COUNTIF(C$3:C$290,SETUP!A10),"") | M15: =IF(SUMIF(C$3:C$290,SETUP!A10,E$3:E$290)>0.005,-K15/K$4,"") | N15: =IF(SUMIF(C$3:C$290,I15,$E$3:$E$290)>0.005,K15/L15,"")
D16: =IF(SETUP!$B$129<>"",SETUP!$B$129,"") | I16: =IF(SETUP!A11<>"",SETUP!A11,"") | J16: =IF(SETUP!B11<>"",SETUP!B11,"") | K16: =IF(SUMIF(C$3:C$290,SETUP!A11,E$3:E$290)>0.005,SUMIF(C$3:C$290,SETUP!A11,E$3:E$290),"") | L16: =IF(COUNTIF(C$3:C$290,SETUP!A11)>0.005,COUNTIF(C$3:C$290,SETUP!A11),"") | M16: =IF(SUMIF(C$3:C$290,SETUP!A11,E$3:E$290)>0.005,-K16/K$4,"") | N16: =IF(SUMIF(C$3:C$290,I16,$E$3:$E$290)>0.005,K16/L16,"") | P16: Copyright by Minh Tan 2012 - digitalcitizen.ca
D17: =IF(SETUP!$B$130<>"",SETUP!$B$130,"") | I17: =IF(SETUP!A12<>"",SETUP!A12,"") | J17: =IF(SETUP!B12<>"",SETUP!B12,"") | K17: =IF(SUMIF(C$3:C$290,SETUP!A12,E$3:E$290)>0.005,SUMIF(C$3:C$290,SETUP!A12,E$3:E$290),"") | L17: =IF(COUNTIF(C$3:C$290,SETUP!A12)>0.005,COUNTIF(C$3:C$290,SETUP!A12),"") | M17: =IF(SUMIF(C$3:C$290,SETUP!A12,E$3:E$290)>0.005,-K17/K$4,"") | N17: =IF(SUMIF(C$3:C$290,I17,$E$3:$E$290)>0.005,K17/L17,"")
D18: =IF(SETUP!$B$131<>"",SETUP!$B$131,"") | I18: =IF(SETUP!A13<>"",SETUP!A13,"") | J18: =IF(SETUP!B13<>"",SETUP!B13,"") | K18: =IF(SUMIF(C$3:C$290,SETUP!A13,E$3:E$290)>0.005,SUMIF(C$3:C$290,SETUP!A13,E$3:E$290),"") | L18: =IF(COUNTIF(C$3:C$290,SETUP!A13)>0.005,COUNTIF(C$3:C$290,SETUP!A13),"") | M18: =IF(SUMIF(C$3:C$290,SETUP!A13,E$3:E$290)>0.005,-K18/K$4,"") | N18: =IF(SUMIF(C$3:C$290,I18,$E$3:$E$290)>0.005,K18/L18,"")
D19: =IF(SETUP!$B$132<>"",SETUP!$B$132,"") | I19: =IF(SETUP!A14<>"",SETUP!A14,"") | J19: =IF(SETUP!B14<>"",SETUP!B14,"") | K19: =IF(SUMIF(C$3:C$290,SETUP!A14,E$3:E$290)>0.005,SUMIF(C$3:C$290,SETUP!A14,E$3:E$290),"") | L19: =IF(COUNTIF(C$3:C$290,SETUP!A14)>0.005,COUNTIF(C$3:C$290,SETUP!A14),"") | M19: =IF(SUMIF(C$3:C$290,SETUP!A14,E$3:E$290)>0.005,-K19/K$4,"") | N19: =IF(SUMIF(C$3:C$290,I19,$E$3:$E$290)>0.005,K19/L19,"")
D20: =IF(SETUP!$B$133<>"",SETUP!$B$133,"") | I20: =IF(SETUP!A15<>"",SETUP!A15,"") | J20: =IF(SETUP!B15<>"",SETUP!B15,"") | K20: =IF(SUMIF(C$3:C$290,SETUP!A15,E$3:E$290)>0.005,SUMIF(C$3:C$290,SETUP!A15,E$3:E$290),"") | L20: =IF(COUNTIF(C$3:C$290,SETUP!A15)>0.005,COUNTIF(C$3:C$290,SETUP!A15),"") | M20: =IF(SUMIF(C$3:C$290,SETUP!A15,E$3:E$290)>0.005,-K20/K$4,"") | N20: =IF(SUMIF(C$3:C$290,I20,$E$3:$E$290)>0.005,K20/L20,"")
D21: =IF(SETUP!$B$134<>"",SETUP!$B$134,"") | I21: =IF(SETUP!A16<>"",SETUP!A16,"") | J21: =IF(SETUP!B16<>"",SETUP!B16,"") | K21: =IF(SUMIF(C$3:C$290,SETUP!A16,E$3:E$290)>0.005,SUMIF(C$3:C$290,SETUP!A16,E$3:E$290),"") | L21: =IF(COUNTIF(C$3:C$290,SETUP!A16)>0.005,COUNTIF(C$3:C$290,SETUP!A16),"") | M21: =IF(SUMIF(C$3:C$290,SETUP!A16,E$3:E$290)>0.005,-K21/K$4,"") | N21: =IF(SUMIF(C$3:C$290,I21,$E$3:$E$290)>0.005,K21/L21,"")
D22: =IF(SETUP!$B$135<>"",SETUP!$B$135,"") | I22: =IF(SETUP!A17<>"",SETUP!A17,"") | J22: =IF(SETUP!B17<>"",SETUP!B17,"") | K22: =IF(SUMIF(C$3:C$290,SETUP!A17,E$3:E$290)>0.005,SUMIF(C$3:C$290,SETUP!A17,E$3:E$290),"") | L22: =IF(COUNTIF(C$3:C$290,SETUP!A17)>0.005,COUNTIF(C$3:C$290,SETUP!A17),"") | M22: =IF(SUMIF(C$3:C$290,SETUP!A17,E$3:E$290)>0.005,-K22/K$4,"") | N22: =IF(SUMIF(C$3:C$290,I22,$E$3:$E$290)>0.005,K22/L22,"")
D23: =IF(SETUP!$B$136<>"",SETUP!$B$136,"") | I23: =IF(SETUP!A18<>"",SETUP!A18,"") | J23: =IF(SETUP!B18<>"",SETUP!B18,"") | K23: =IF(SUMIF(C$3:C$290,SETUP!A18,E$3:E$290)>0.005,SUMIF(C$3:C$290,SETUP!A18,E$3:E$290),"") | L23: =IF(COUNTIF(C$3:C$290,SETUP!A18)>0.005,COUNTIF(C$3:C$290,SETUP!A18),"") | M23: =IF(SUMIF(C$3:C$290,SETUP!A18,E$3:E$290)>0.005,-K23/K$4,"") | N23: =IF(SUMIF(C$3:C$290,I23,$E$3:$E$290)>0.005,K23/L23,"")
D24: =IF(SETUP!$B$137<>"",SETUP!$B$137,"") | I24: =IF(SETUP!A19<>"",SETUP!A19,"") | J24: =IF(SETUP!B19<>"",SETUP!B19,"") | K24: =IF(SUMIF(C$3:C$290,SETUP!A19,E$3:E$290)>0.005,SUMIF(C$3:C$290,SETUP!A19,E$3:E$290),"") | L24: =IF(COUNTIF(C$3:C$290,SETUP!A19)>0.005,COUNTIF(C$3:C$290,SETUP!A19),"") | M24: =IF(SUMIF(C$3:C$290,SETUP!A19,E$3:E$290)>0.005,-K24/K$4,"") | N24: =IF(SUMIF(C$3:C$290,I24,$E$3:$E$290)>0.005,K24/L24,"")
D25: =IF(SETUP!$B$138<>"",SETUP!$B$138,"") | I25: =IF(SETUP!A20<>"",SETUP!A20,"") | J25: =IF(SETUP!B20<>"",SETUP!B20,"") | K25: =IF(SUMIF(C$3:C$290,SETUP!A20,E$3:E$290)>0.005,SUMIF(C$3:C$290,SETUP!A20,E$3:E$290),"") | L25: =IF(COUNTIF(C$3:C$290,SETUP!A20)>0.005,COUNTIF(C$3:C$290,SETUP!A20),"") | M25: =IF(SUMIF(C$3:C$290,SETUP!A20,E$3:E$290)>0.005,-K25/K$4,"") | N25: =IF(SUMIF(C$3:C$290,I25,$E$3:$E$290)>0.005,K25/L25,"") | O25: Expenditures
D26: =IF(SETUP!$B$139<>"",SETUP!$B$139,"Blue spaces reserved for repeating monthly items") -> Blue spaces reserved for repeating monthly items | I26: =IF(SETUP!A21<>"",SETUP!A21,"") | J26: =IF(SETUP!B21<>"",SETUP!B21,"") | K26: =IF(SUMIF(C$3:C$290,SETUP!A21,E$3:E$290)>0.005,SUMIF(C$3:C$290,SETUP!A21,E$3:E$290),"") | L26: =IF(COUNTIF(C$3:C$290,SETUP!A21)>0.005,COUNTIF(C$3:C$290,SETUP!A21),"") | M26: =IF(SUMIF(C$3:C$290,SETUP!A21,E$3:E$290)>0.005,-K26/K$4,"") | N26: =IF(SUMIF(C$3:C$290,I26,$E$3:$E$290)>0.005,K26/L26,"")
I27: =IF(SETUP!A22<>"",SETUP!A22,"") | J27: =IF(SETUP!B22<>"",SETUP!B22,"") | K27: =IF(SUMIF(C$3:C$290,SETUP!A22,E$3:E$290)>0.005,SUMIF(C$3:C$290,SETUP!A22,E$3:E$290),"") | L27: =IF(COUNTIF(C$3:C$290,SETUP!A22)>0.005,COUNTIF(C$3:C$290,SETUP!A22),"") | M27: =IF(SUMIF(C$3:C$290,SETUP!A22,E$3:E$290)>0.005,-K27/K$4,"") | N27: =IF(SUMIF(C$3:C$290,I27,$E$3:$E$290)>0.005,K27/L27,"")
I28: =IF(SETUP!A23<>"",SETUP!A23,"") | J28: =IF(SETUP!B23<>"",SETUP!B23,"") | K28: =IF(SUMIF(C$3:C$290,SETUP!A23,E$3:E$290)>0.005,SUMIF(C$3:C$290,SETUP!A23,E$3:E$290),"") | L28: =IF(COUNTIF(C$3:C$290,SETUP!A23)>0.005,COUNTIF(C$3:C$290,SETUP!A23),"") | M28: =IF(SUMIF(C$3:C$290,SETUP!A23,E$3:E$290)>0.005,-K28/K$4,"") | N28: =IF(SUMIF(C$3:C$290,I28,$E$3:$E$290)>0.005,K28/L28,"")
I29: =IF(SETUP!A24<>"",SETUP!A24,"") | J29: =IF(SETUP!B24<>"",SETUP!B24,"") | K29: =IF(SUMIF(C$3:C$290,SETUP!A24,E$3:E$290)>0.005,SUMIF(C$3:C$290,SETUP!A24,E$3:E$290),"") | L29: =IF(COUNTIF(C$3:C$290,SETUP!A24)>0.005,COUNTIF(C$3:C$290,SETUP!A24),"") | M29: =IF(SUMIF(C$3:C$290,SETUP!A24,E$3:E$290)>0.005,-K29/K$4,"") | N29: =IF(SUMIF(C$3:C$290,I29,$E$3:$E$290)>0.005,K29/L29,"")
I30: =IF(SETUP!A25<>"",SETUP!A25,"") | J30: =IF(SETUP!B25<>"",SETUP!B25,"") | K30: =IF(SUMIF(C$3:C$290,SETUP!A25,E$3:E$290)>0.005,SUMIF(C$3:C$290,SETUP!A25,E$3:E$290),"") | L30: =IF(COUNTIF(C$3:C$290,SETUP!A25)>0.005,COUNTIF(C$3:C$290,SETUP!A25),"") | M30: =IF(SUMIF(C$3:C$290,SETUP!A25,E$3:E$290)>0.005,-K30/K$4,"") | N30: =IF(SUMIF(C$3:C$290,I30,$E$3:$E$290)>0.005,K30/L30,"")
I31: =IF(SETUP!A26<>"",SETUP!A26,"") | J31: =IF(SETUP!B26<>"",SETUP!B26,"") | K31: =IF(SUMIF(C$3:C$290,SETUP!A26,E$3:E$290)>0.005,SUMIF(C$3:C$290,SETUP!A26,E$3:E$290),"") | L31: =IF(COUNTIF(C$3:C$290,SETUP!A26)>0.005,COUNTIF(C$3:C$290,SETUP!A26),"") | M31: =IF(SUMIF(C$3:C$290,SETUP!A26,E$3:E$290)>0.005,-K31/K$4,"") | N31: =IF(SUMIF(C$3:C$290,I31,$E$3:$E$290)>0.005,K31/L31,"") | P31: Copyright by Minh Tan 2012 - digitalcitizen.ca
I32: =IF(SETUP!A27<>"",SETUP!A27,"") | J32: =IF(SETUP!B27<>"",SETUP!B27,"") | K32: =IF(SUMIF(C$3:C$290,SETUP!A27,E$3:E$290)>0.005,SUMIF(C$3:C$290,SETUP!A27,E$3:E$290),"") | L32: =IF(COUNTIF(C$3:C$290,SETUP!A27)>0.005,COUNTIF(C$3:C$290,SETUP!A27),"") | M32: =IF(SUMIF(C$3:C$290,SETUP!A27,E$3:E$290)>0.005,-K32/K$4,"") | N32: =IF(SUMIF(C$3:C$290,I32,$E$3:$E$290)>0.005,K32/L32,"")
I33: =IF(SETUP!A28<>"",SETUP!A28,"") | J33: =IF(SETUP!B28<>"",SETUP!B28,"") | K33: =IF(SUMIF(C$3:C$290,SETUP!A28,E$3:E$290)>0.005,SUMIF(C$3:C$290,SETUP!A28,E$3:E$290),"") | L33: =IF(COUNTIF(C$3:C$290,SETUP!A28)>0.005,COUNTIF(C$3:C$290,SETUP!A28),"") | M33: =IF(SUMIF(C$3:C$290,SETUP!A28,E$3:E$290)>0.005,-K33/K$4,"") | N33: =IF(SUMIF(C$3:C$290,I33,$E$3:$E$290)>0.005,K33/L33,"")
I34: =IF(SETUP!A29<>"",SETUP!A29,"") | J34: =IF(SETUP!B29<>"",SETUP!B29,"") | K34: =IF(SUMIF(C$3:C$290,SETUP!A29,E$3:E$290)>0.005,SUMIF(C$3:C$290,SETUP!A29,E$3:E$290),"") | L34: =IF(COUNTIF(C$3:C$290,SETUP!A29)>0.005,COUNTIF(C$3:C$290,SETUP!A29),"") | M34: =IF(SUMIF(C$3:C$290,SETUP!A29,E$3:E$290)>0.005,-K34/K$4,"") | N34: =IF(SUMIF(C$3:C$290,I34,$E$3:$E$290)>0.005,K34/L34,"")
I35: =IF(SETUP!A30<>"",SETUP!A30,"") | J35: =IF(SETUP!B30<>"",SETUP!B30,"") | K35: =IF(SUMIF(C$3:C$290,SETUP!A30,E$3:E$290)>0.005,SUMIF(C$3:C$290,SETUP!A30,E$3:E$290),"") | L35: =IF(COUNTIF(C$3:C$290,SETUP!A30)>0.005,COUNTIF(C$3:C$290,SETUP!A30),"") | M35: =IF(SUMIF(C$3:C$290,SETUP!A30,E$3:E$290)>0.005,-K35/K$4,"") | N35: =IF(SUMIF(C$3:C$290,I35,$E$3:$E$290)>0.005,K35/L35,"")
I36: =IF(SETUP!A31<>"",SETUP!A31,"") | J36: =IF(SETUP!B31<>"",SETUP!B31,"") | K36: =IF(SUMIF(C$3:C$290,SETUP!A31,E$3:E$290)>0.005,SUMIF(C$3:C$290,SETUP!A31,E$3:E$290),"") | L36: =IF(COUNTIF(C$3:C$290,SETUP!A31)>0.005,COUNTIF(C$3:C$290,SETUP!A31),"") | M36: =IF(SUMIF(C$3:C$290,SETUP!A31,E$3:E$290)>0.005,-K36/K$4,"") | N36: =IF(SUMIF(C$3:C$290,I36,$E$3:$E$290)>0.005,K36/L36,"")
I37: =IF(SETUP!A32<>"",SETUP!A32,"") | J37: =IF(SETUP!B32<>"",SETUP!B32,"") | K37: =IF(SUMIF(C$3:C$290,SETUP!A32,E$3:E$290)>0.005,SUMIF(C$3:C$290,SETUP!A32,E$3:E$290),"") | L37: =IF(COUNTIF(C$3:C$290,SETUP!A32)>0.005,COUNTIF(C$3:C$290,SETUP!A32),"") | M37: =IF(SUMIF(C$3:C$290,SETUP!A32,E$3:E$290)>0.005,-K37/K$4,"") | N37: =IF(SUMIF(C$3:C$290,I37,$E$3:$E$290)>0.005,K37/L37,"")
I38: =IF(SETUP!A33<>"",SETUP!A33,"") | J38: =IF(SETUP!B33<>"",SETUP!B33,"") | K38: =IF(SUMIF(C$3:C$290,SETUP!A33,E$3:E$290)>0.005,SUMIF(C$3:C$290,SETUP!A33,E$3:E$290),"") | L38: =IF(COUNTIF(C$3:C$290,SETUP!A33)>0.005,COUNTIF(C$3:C$290,SETUP!A33),"") | M38: =IF(SUMIF(C$3:C$290,SETUP!A33,E$3:E$290)>0.005,-K38/K$4,"") | N38: =IF(SUMIF(C$3:C$290,I38,$E$3:$E$290)>0.005,K38/L38,"")
I39: =IF(SETUP!A34<>"",SETUP!A34,"") | J39: =IF(SETUP!B34<>"",SETUP!B34,"") | K39: =IF(SUMIF(C$3:C$290,SETUP!A34,E$3:E$290)>0.005,SUMIF(C$3:C$290,SETUP!A34,E$3:E$290),"") | L39: =IF(COUNTIF(C$3:C$290,SETUP!A34)>0.005,COUNTIF(C$3:C$290,SETUP!A34),"") | M39: =IF(SUMIF(C$3:C$290,SETUP!A34,E$3:E$290)>0.005,-K39/K$4,"") | N39: =IF(SUMIF(C$3:C$290,I39,$E$3:$E$290)>0.005,K39/L39,"")
I40: =IF(SETUP!A35<>"",SETUP!A35,"") | J40: =IF(SETUP!B35<>"",SETUP!B35,"") | K40: =IF(SUMIF(C$3:C$290,SETUP!A35,E$3:E$290)>0.005,SUMIF(C$3:C$290,SETUP!A35,E$3:E$290),"") | L40: =IF(COUNTIF(C$3:C$290,SETUP!A35)>0.005,COUNTIF(C$3:C$290,SETUP!A35),"") | M40: =IF(SUMIF(C$3:C$290,SETUP!A35,E$3:E$290)>0.005,-K40/K$4,"") | N40: =IF(SUMIF(C$3:C$290,I40,$E$3:$E$290)>0.005,K40/L40,"")
...

Sheet APR
A1: Date | B1: Met | C1: Cat | D1: Transaction Description (April) | E1: Spent | F1: Earned | G1: =SETUP!H89 -> X | I1: CATEGORIES | K1: Amount | L1: # Trans | M1: % | N1: Avg per Trans | P1: Copyright by Minh Tan 2012 - digitalcitizen.ca
D2: Starting Balance | E2: =IF(SETUP!H83=4,SETUP!E96,MAR!K6)
D3: =IF(SETUP!$B$116<>"",SETUP!$B$116,"") | J3: INCOME | K3: =IF(SUM(F3:F290)>0.005,SUM(F3:F290),"") | L3: =IF(COUNTIF(F3:F290,">0.005")>0.005,COUNTIF(F3:F290,">0.005"),"") | N3: =IF(SUM(F3:F290)>0.005,K3/L3,"")
D4: =IF(SETUP!$B$117<>"",SETUP!$B$117,"") | J4: EXPENDITURES | K4: =IF(SUM(E3:E290)>0.005,-SUM(E3:E290),"") | L4: =IF(COUNTIF(E3:E290,">0.005")>0.005,COUNTIF(E3:E290,">0.005"),"") | M4: =IF(ISERROR(IF(K3>1,-K4/K3,"")),"",K4/K3) | N4: =IF(SUM(E3:E290)>0.005,K4/L4,"")
D5: =IF(SETUP!$B$118<>"",SETUP!$B$118,"") | J5: NET | K5: =IF(OR(SUM(F3:F290)>0.005,K4<-0.005),SUM(K3:K4),"") | L5: =IF(OR(-SUM(F3:F290)-SUM(E3:E290)>0.005,SUM(F3:F290)-SUM(K60:K69)>0.005,-SUM(E3:E290)-SUM(K83:K85)>0.005),("Check unclassified entries in "&IF(-SUM(K8:K52)-K4>0.005,"Expenditures ","")&IF(K3-SUM(K60:K69)>0.005,"Income ","")&IF(-K4-SUM(K83:K85)>0.005,"Payment","")),"")
D6: =IF(SETUP!$B$119<>"",SETUP!$B$119,"") | J6: CURRENT BALANCE | K6: =IF(OR(SUM(F3:F290)>0.005,K4<-0.005),SUM(E2,K5),"")
D7: =IF(SETUP!$B$120<>"",SETUP!$B$120,"") | J7: POORLY SPENT | K7: =IF(SUM(G3:G290)>0.005,-SUM(G3:G290),"") | L7: =IF(COUNTIF(G3:G290,">0.005")>0.005,COUNTIF(G3:G290,">0.005"),"") | M7: =IF(SUM(G3:G290)>0.005,K7/K4,"") | N7: =IF(K7<0,K7/L7,"")
D8: =IF(SETUP!$B$121<>"",SETUP!$B$121,"") | I8: =IF(SETUP!A3<>"",SETUP!A3,"") | J8: =IF(SETUP!B3<>"",SETUP!B3,"") | K8: =IF(SUMIF(C$3:C$290,SETUP!A3,E$3:E$290)>0.005,SUMIF(C$3:C$290,SETUP!A3,E$3:E$290),"") | L8: =IF(COUNTIF(C$3:C$290,SETUP!A3)>0.005,COUNTIF(C$3:C$290,SETUP!A3),"") | M8: =IF(SUMIF(C$3:C$290,SETUP!A3,E$3:E$290)>0.005,-K8/K$4,"") | N8: =IF(SUMIF(C$3:C$290,I8,$E$3:$E$290)>0.005,K8/L8,"") | O8: Expenditures
D9: =IF(SETUP!$B$122<>"",SETUP!$B$122,"") | I9: =IF(SETUP!A4<>"",SETUP!A4,"") | J9: =IF(SETUP!B4<>"",SETUP!B4,"") | K9: =IF(SUMIF(C$3:C$290,SETUP!A4,E$3:E$290)>0.005,SUMIF(C$3:C$290,SETUP!A4,E$3:E$290),"") | L9: =IF(COUNTIF(C$3:C$290,SETUP!A4)>0.005,COUNTIF(C$3:C$290,SETUP!A4),"") | M9: =IF(SUMIF(C$3:C$290,SETUP!A4,E$3:E$290)>0.005,-K9/K$4,"") | N9: =IF(SUMIF(C$3:C$290,I9,$E$3:$E$290)>0.005,K9/L9,"")
D10: =IF(SETUP!$B$123<>"",SETUP!$B$123,"") | I10: =IF(SETUP!A5<>"",SETUP!A5,"") | J10: =IF(SETUP!B5<>"",SETUP!B5,"") | K10: =IF(SUMIF(C$3:C$290,SETUP!A5,E$3:E$290)>0.005,SUMIF(C$3:C$290,SETUP!A5,E$3:E$290),"") | L10: =IF(COUNTIF(C$3:C$290,SETUP!A5)>0.005,COUNTIF(C$3:C$290,SETUP!A5),"") | M10: =IF(SUMIF(C$3:C$290,SETUP!A5,E$3:E$290)>0.005,-K10/K$4,"") | N10: =IF(SUMIF(C$3:C$290,I10,$E$3:$E$290)>0.005,K10/L10,"")
D11: =IF(SETUP!$B$124<>"",SETUP!$B$124,"") | I11: =IF(SETUP!A6<>"",SETUP!A6,"") | J11: =IF(SETUP!B6<>"",SETUP!B6,"") | K11: =IF(SUMIF(C$3:C$290,SETUP!A6,E$3:E$290)>0.005,SUMIF(C$3:C$290,SETUP!A6,E$3:E$290),"") | L11: =IF(COUNTIF(C$3:C$290,SETUP!A6)>0.005,COUNTIF(C$3:C$290,SETUP!A6),"") | M11: =IF(SUMIF(C$3:C$290,SETUP!A6,E$3:E$290)>0.005,-K11/K$4,"") | N11: =IF(SUMIF(C$3:C$290,I11,$E$3:$E$290)>0.005,K11/L11,"")
D12: =IF(SETUP!$B$125<>"",SETUP!$B$125,"") | I12: =IF(SETUP!A7<>"",SETUP!A7,"") | J12: =IF(SETUP!B7<>"",SETUP!B7,"") | K12: =IF(SUMIF(C$3:C$290,SETUP!A7,E$3:E$290)>0.005,SUMIF(C$3:C$290,SETUP!A7,E$3:E$290),"") | L12: =IF(COUNTIF(C$3:C$290,SETUP!A7)>0.005,COUNTIF(C$3:C$290,SETUP!A7),"") | M12: =IF(SUMIF(C$3:C$290,SETUP!A7,E$3:E$290)>0.005,-K12/K$4,"") | N12: =IF(SUMIF(C$3:C$290,I12,$E$3:$E$290)>0.005,K12/L12,"")
D13: =IF(SETUP!$B$126<>"",SETUP!$B$126,"") | I13: =IF(SETUP!A8<>"",SETUP!A8,"") | J13: =IF(SETUP!B8<>"",SETUP!B8,"") | K13: =IF(SUMIF(C$3:C$290,SETUP!A8,E$3:E$290)>0.005,SUMIF(C$3:C$290,SETUP!A8,E$3:E$290),"") | L13: =IF(COUNTIF(C$3:C$290,SETUP!A8)>0.005,COUNTIF(C$3:C$290,SETUP!A8),"") | M13: =IF(SUMIF(C$3:C$290,SETUP!A8,E$3:E$290)>0.005,-K13/K$4,"") | N13: =IF(SUMIF(C$3:C$290,I13,$E$3:$E$290)>0.005,K13/L13,"")
D14: =IF(SETUP!$B$127<>"",SETUP!$B$127,"") | I14: =IF(SETUP!A9<>"",SETUP!A9,"") | J14: =IF(SETUP!B9<>"",SETUP!B9,"") | K14: =IF(SUMIF(C$3:C$290,SETUP!A9,E$3:E$290)>0.005,SUMIF(C$3:C$290,SETUP!A9,E$3:E$290),"") | L14: =IF(COUNTIF(C$3:C$290,SETUP!A9)>0.005,COUNTIF(C$3:C$290,SETUP!A9),"") | M14: =IF(SUMIF(C$3:C$290,SETUP!A9,E$3:E$290)>0.005,-K14/K$4,"") | N14: =IF(SUMIF(C$3:C$290,I14,$E$3:$E$290)>0.005,K14/L14,"")
D15: =IF(SETUP!$B$128<>"",SETUP!$B$128,"") | I15: =IF(SETUP!A10<>"",SETUP!A10,"") | J15: =IF(SETUP!B10<>"",SETUP!B10,"") | K15: =IF(SUMIF(C$3:C$290,SETUP!A10,E$3:E$290)>0.005,SUMIF(C$3:C$290,SETUP!A10,E$3:E$290),"") | L15: =IF(COUNTIF(C$3:C$290,SETUP!A10)>0.005,COUNTIF(C$3:C$290,SETUP!A10),"") | M15: =IF(SUMIF(C$3:C$290,SETUP!A10,E$3:E$290)>0.005,-K15/K$4,"") | N15: =IF(SUMIF(C$3:C$290,I15,$E$3:$E$290)>0.005,K15/L15,"")
D16: =IF(SETUP!$B$129<>"",SETUP!$B$129,"") | I16: =IF(SETUP!A11<>"",SETUP!A11,"") | J16: =IF(SETUP!B11<>"",SETUP!B11,"") | K16: =IF(SUMIF(C$3:C$290,SETUP!A11,E$3:E$290)>0.005,SUMIF(C$3:C$290,SETUP!A11,E$3:E$290),"") | L16: =IF(COUNTIF(C$3:C$290,SETUP!A11)>0.005,COUNTIF(C$3:C$290,SETUP!A11),"") | M16: =IF(SUMIF(C$3:C$290,SETUP!A11,E$3:E$290)>0.005,-K16/K$4,"") | N16: =IF(SUMIF(C$3:C$290,I16,$E$3:$E$290)>0.005,K16/L16,"") | P16: Copyright by Minh Tan 2012 - digitalcitizen.ca
D17: =IF(SETUP!$B$130<>"",SETUP!$B$130,"") | I17: =IF(SETUP!A12<>"",SETUP!A12,"") | J17: =IF(SETUP!B12<>"",SETUP!B12,"") | K17: =IF(SUMIF(C$3:C$290,SETUP!A12,E$3:E$290)>0.005,SUMIF(C$3:C$290,SETUP!A12,E$3:E$290),"") | L17: =IF(COUNTIF(C$3:C$290,SETUP!A12)>0.005,COUNTIF(C$3:C$290,SETUP!A12),"") | M17: =IF(SUMIF(C$3:C$290,SETUP!A12,E$3:E$290)>0.005,-K17/K$4,"") | N17: =IF(SUMIF(C$3:C$290,I17,$E$3:$E$290)>0.005,K17/L17,"")
D18: =IF(SETUP!$B$131<>"",SETUP!$B$131,"") | I18: =IF(SETUP!A13<>"",SETUP!A13,"") | J18: =IF(SETUP!B13<>"",SETUP!B13,"") | K18: =IF(SUMIF(C$3:C$290,SETUP!A13,E$3:E$290)>0.005,SUMIF(C$3:C$290,SETUP!A13,E$3:E$290),"") | L18: =IF(COUNTIF(C$3:C$290,SETUP!A13)>0.005,COUNTIF(C$3:C$290,SETUP!A13),"") | M18: =IF(SUMIF(C$3:C$290,SETUP!A13,E$3:E$290)>0.005,-K18/K$4,"") | N18: =IF(SUMIF(C$3:C$290,I18,$E$3:$E$290)>0.005,K18/L18,"")
D19: =IF(SETUP!$B$132<>"",SETUP!$B$132,"") | I19: =IF(SETUP!A14<>"",SETUP!A14,"") | J19: =IF(SETUP!B14<>"",SETUP!B14,"") | K19: =IF(SUMIF(C$3:C$290,SETUP!A14,E$3:E$290)>0.005,SUMIF(C$3:C$290,SETUP!A14,E$3:E$290),"") | L19: =IF(COUNTIF(C$3:C$290,SETUP!A14)>0.005,COUNTIF(C$3:C$290,SETUP!A14),"") | M19: =IF(SUMIF(C$3:C$290,SETUP!A14,E$3:E$290)>0.005,-K19/K$4,"") | N19: =IF(SUMIF(C$3:C$290,I19,$E$3:$E$290)>0.005,K19/L19,"")
D20: =IF(SETUP!$B$133<>"",SETUP!$B$133,"") | I20: =IF(SETUP!A15<>"",SETUP!A15,"") | J20: =IF(SETUP!B15<>"",SETUP!B15,"") | K20: =IF(SUMIF(C$3:C$290,SETUP!A15,E$3:E$290)>0.005,SUMIF(C$3:C$290,SETUP!A15,E$3:E$290),"") | L20: =IF(COUNTIF(C$3:C$290,SETUP!A15)>0.005,COUNTIF(C$3:C$290,SETUP!A15),"") | M20: =IF(SUMIF(C$3:C$290,SETUP!A15,E$3:E$290)>0.005,-K20/K$4,"") | N20: =IF(SUMIF(C$3:C$290,I20,$E$3:$E$290)>0.005,K20/L20,"")
D21: =IF(SETUP!$B$134<>"",SETUP!$B$134,"") | I21: =IF(SETUP!A16<>"",SETUP!A16,"") | J21: =IF(SETUP!B16<>"",SETUP!B16,"") | K21: =IF(SUMIF(C$3:C$290,SETUP!A16,E$3:E$290)>0.005,SUMIF(C$3:C$290,SETUP!A16,E$3:E$290),"") | L21: =IF(COUNTIF(C$3:C$290,SETUP!A16)>0.005,COUNTIF(C$3:C$290,SETUP!A16),"") | M21: =IF(SUMIF(C$3:C$290,SETUP!A16,E$3:E$290)>0.005,-K21/K$4,"") | N21: =IF(SUMIF(C$3:C$290,I21,$E$3:$E$290)>0.005,K21/L21,"")
D22: =IF(SETUP!$B$135<>"",SETUP!$B$135,"") | I22: =IF(SETUP!A17<>"",SETUP!A17,"") | J22: =IF(SETUP!B17<>"",SETUP!B17,"") | K22: =IF(SUMIF(C$3:C$290,SETUP!A17,E$3:E$290)>0.005,SUMIF(C$3:C$290,SETUP!A17,E$3:E$290),"") | L22: =IF(COUNTIF(C$3:C$290,SETUP!A17)>0.005,COUNTIF(C$3:C$290,SETUP!A17),"") | M22: =IF(SUMIF(C$3:C$290,SETUP!A17,E$3:E$290)>0.005,-K22/K$4,"") | N22: =IF(SUMIF(C$3:C$290,I22,$E$3:$E$290)>0.005,K22/L22,"")
D23: =IF(SETUP!$B$136<>"",SETUP!$B$136,"") | I23: =IF(SETUP!A18<>"",SETUP!A18,"") | J23: =IF(SETUP!B18<>"",SETUP!B18,"") | K23: =IF(SUMIF(C$3:C$290,SETUP!A18,E$3:E$290)>0.005,SUMIF(C$3:C$290,SETUP!A18,E$3:E$290),"") | L23: =IF(COUNTIF(C$3:C$290,SETUP!A18)>0.005,COUNTIF(C$3:C$290,SETUP!A18),"") | M23: =IF(SUMIF(C$3:C$290,SETUP!A18,E$3:E$290)>0.005,-K23/K$4,"") | N23: =IF(SUMIF(C$3:C$290,I23,$E$3:$E$290)>0.005,K23/L23,"")
D24: =IF(SETUP!$B$137<>"",SETUP!$B$137,"") | I24: =IF(SETUP!A19<>"",SETUP!A19,"") | J24: =IF(SETUP!B19<>"",SETUP!B19,"") | K24: =IF(SUMIF(C$3:C$290,SETUP!A19,E$3:E$290)>0.005,SUMIF(C$3:C$290,SETUP!A19,E$3:E$290),"") | L24: =IF(COUNTIF(C$3:C$290,SETUP!A19)>0.005,COUNTIF(C$3:C$290,SETUP!A19),"") | M24: =IF(SUMIF(C$3:C$290,SETUP!A19,E$3:E$290)>0.005,-K24/K$4,"") | N24: =IF(SUMIF(C$3:C$290,I24,$E$3:$E$290)>0.005,K24/L24,"")
D25: =IF(SETUP!$B$138<>"",SETUP!$B$138,"") | I25: =IF(SETUP!A20<>"",SETUP!A20,"") | J25: =IF(SETUP!B20<>"",SETUP!B20,"") | K25: =IF(SUMIF(C$3:C$290,SETUP!A20,E$3:E$290)>0.005,SUMIF(C$3:C$290,SETUP!A20,E$3:E$290),"") | L25: =IF(COUNTIF(C$3:C$290,SETUP!A20)>0.005,COUNTIF(C$3:C$290,SETUP!A20),"") | M25: =IF(SUMIF(C$3:C$290,SETUP!A20,E$3:E$290)>0.005,-K25/K$4,"") | N25: =IF(SUMIF(C$3:C$290,I25,$E$3:$E$290)>0.005,K25/L25,"") | O25: Expenditures
D26: =IF(SETUP!$B$139<>"",SETUP!$B$139,"Blue spaces reserved for repeating monthly items") -> Blue spaces reserved for repeating monthly items | I26: =IF(SETUP!A21<>"",SETUP!A21,"") | J26: =IF(SETUP!B21<>"",SETUP!B21,"") | K26: =IF(SUMIF(C$3:C$290,SETUP!A21,E$3:E$290)>0.005,SUMIF(C$3:C$290,SETUP!A21,E$3:E$290),"") | L26: =IF(COUNTIF(C$3:C$290,SETUP!A21)>0.005,COUNTIF(C$3:C$290,SETUP!A21),"") | M26: =IF(SUMIF(C$3:C$290,SETUP!A21,E$3:E$290)>0.005,-K26/K$4,"") | N26: =IF(SUMIF(C$3:C$290,I26,$E$3:$E$290)>0.005,K26/L26,"")
I27: =IF(SETUP!A22<>"",SETUP!A22,"") | J27: =IF(SETUP!B22<>"",SETUP!B22,"") | K27: =IF(SUMIF(C$3:C$290,SETUP!A22,E$3:E$290)>0.005,SUMIF(C$3:C$290,SETUP!A22,E$3:E$290),"") | L27: =IF(COUNTIF(C$3:C$290,SETUP!A22)>0.005,COUNTIF(C$3:C$290,SETUP!A22),"") | M27: =IF(SUMIF(C$3:C$290,SETUP!A22,E$3:E$290)>0.005,-K27/K$4,"") | N27: =IF(SUMIF(C$3:C$290,I27,$E$3:$E$290)>0.005,K27/L27,"")
I28: =IF(SETUP!A23<>"",SETUP!A23,"") | J28: =IF(SETUP!B23<>"",SETUP!B23,"") | K28: =IF(SUMIF(C$3:C$290,SETUP!A23,E$3:E$290)>0.005,SUMIF(C$3:C$290,SETUP!A23,E$3:E$290),"") | L28: =IF(COUNTIF(C$3:C$290,SETUP!A23)>0.005,COUNTIF(C$3:C$290,SETUP!A23),"") | M28: =IF(SUMIF(C$3:C$290,SETUP!A23,E$3:E$290)>0.005,-K28/K$4,"") | N28: =IF(SUMIF(C$3:C$290,I28,$E$3:$E$290)>0.005,K28/L28,"")
I29: =IF(SETUP!A24<>"",SETUP!A24,"") | J29: =IF(SETUP!B24<>"",SETUP!B24,"") | K29: =IF(SUMIF(C$3:C$290,SETUP!A24,E$3:E$290)>0.005,SUMIF(C$3:C$290,SETUP!A24,E$3:E$290),"") | L29: =IF(COUNTIF(C$3:C$290,SETUP!A24)>0.005,COUNTIF(C$3:C$290,SETUP!A24),"") | M29: =IF(SUMIF(C$3:C$290,SETUP!A24,E$3:E$290)>0.005,-K29/K$4,"") | N29: =IF(SUMIF(C$3:C$290,I29,$E$3:$E$290)>0.005,K29/L29,"")
I30: =IF(SETUP!A25<>"",SETUP!A25,"") | J30: =IF(SETUP!B25<>"",SETUP!B25,"") | K30: =IF(SUMIF(C$3:C$290,SETUP!A25,E$3:E$290)>0.005,SUMIF(C$3:C$290,SETUP!A25,E$3:E$290),"") | L30: =IF(COUNTIF(C$3:C$290,SETUP!A25)>0.005,COUNTIF(C$3:C$290,SETUP!A25),"") | M30: =IF(SUMIF(C$3:C$290,SETUP!A25,E$3:E$290)>0.005,-K30/K$4,"") | N30: =IF(SUMIF(C$3:C$290,I30,$E$3:$E$290)>0.005,K30/L30,"")
I31: =IF(SETUP!A26<>"",SETUP!A26,"") | J31: =IF(SETUP!B26<>"",SETUP!B26,"") | K31: =IF(SUMIF(C$3:C$290,SETUP!A26,E$3:E$290)>0.005,SUMIF(C$3:C$290,SETUP!A26,E$3:E$290),"") | L31: =IF(COUNTIF(C$3:C$290,SETUP!A26)>0.005,COUNTIF(C$3:C$290,SETUP!A26),"") | M31: =IF(SUMIF(C$3:C$290,SETUP!A26,E$3:E$290)>0.005,-K31/K$4,"") | N31: =IF(SUMIF(C$3:C$290,I31,$E$3:$E$290)>0.005,K31/L31,"") | P31: Copyright by Minh Tan 2012 - digitalcitizen.ca
I32: =IF(SETUP!A27<>"",SETUP!A27,"") | J32: =IF(SETUP!B27<>"",SETUP!B27,"") | K32: =IF(SUMIF(C$3:C$290,SETUP!A27,E$3:E$290)>0.005,SUMIF(C$3:C$290,SETUP!A27,E$3:E$290),"") | L32: =IF(COUNTIF(C$3:C$290,SETUP!A27)>0.005,COUNTIF(C$3:C$290,SETUP!A27),"") | M32: =IF(SUMIF(C$3:C$290,SETUP!A27,E$3:E$290)>0.005,-K32/K$4,"") | N32: =IF(SUMIF(C$3:C$290,I32,$E$3:$E$290)>0.005,K32/L32,"")
I33: =IF(SETUP!A28<>"",SETUP!A28,"") | J33: =IF(SETUP!B28<>"",SETUP!B28,"") | K33: =IF(SUMIF(C$3:C$290,SETUP!A28,E$3:E$290)>0.005,SUMIF(C$3:C$290,SETUP!A28,E$3:E$290),"") | L33: =IF(COUNTIF(C$3:C$290,SETUP!A28)>0.005,COUNTIF(C$3:C$290,SETUP!A28),"") | M33: =IF(SUMIF(C$3:C$290,SETUP!A28,E$3:E$290)>0.005,-K33/K$4,"") | N33: =IF(SUMIF(C$3:C$290,I33,$E$3:$E$290)>0.005,K33/L33,"")
I34: =IF(SETUP!A29<>"",SETUP!A29,"") | J34: =IF(SETUP!B29<>"",SETUP!B29,"") | K34: =IF(SUMIF(C$3:C$290,SETUP!A29,E$3:E$290)>0.005,SUMIF(C$3:C$290,SETUP!A29,E$3:E$290),"") | L34: =IF(COUNTIF(C$3:C$290,SETUP!A29)>0.005,COUNTIF(C$3:C$290,SETUP!A29),"") | M34: =IF(SUMIF(C$3:C$290,SETUP!A29,E$3:E$290)>0.005,-K34/K$4,"") | N34: =IF(SUMIF(C$3:C$290,I34,$E$3:$E$290)>0.005,K34/L34,"")
I35: =IF(SETUP!A30<>"",SETUP!A30,"") | J35: =IF(SETUP!B30<>"",SETUP!B30,"") | K35: =IF(SUMIF(C$3:C$290,SETUP!A30,E$3:E$290)>0.005,SUMIF(C$3:C$290,SETUP!A30,E$3:E$290),"") | L35: =IF(COUNTIF(C$3:C$290,SETUP!A30)>0.005,COUNTIF(C$3:C$290,SETUP!A30),"") | M35: =IF(SUMIF(C$3:C$290,SETUP!A30,E$3:E$290)>0.005,-K35/K$4,"") | N35: =IF(SUMIF(C$3:C$290,I35,$E$3:$E$290)>0.005,K35/L35,"")
I36: =IF(SETUP!A31<>"",SETUP!A31,"") | J36: =IF(SETUP!B31<>"",SETUP!B31,"") | K36: =IF(SUMIF(C$3:C$290,SETUP!A31,E$3:E$290)>0.005,SUMIF(C$3:C$290,SETUP!A31,E$3:E$290),"") | L36: =IF(COUNTIF(C$3:C$290,SETUP!A31)>0.005,COUNTIF(C$3:C$290,SETUP!A31),"") | M36: =IF(SUMIF(C$3:C$290,SETUP!A31,E$3:E$290)>0.005,-K36/K$4,"") | N36: =IF(SUMIF(C$3:C$290,I36,$E$3:$E$290)>0.005,K36/L36,"")
I37: =IF(SETUP!A32<>"",SETUP!A32,"") | J37: =IF(SETUP!B32<>"",SETUP!B32,"") | K37: =IF(SUMIF(C$3:C$290,SETUP!A32,E$3:E$290)>0.005,SUMIF(C$3:C$290,SETUP!A32,E$3:E$290),"") | L37: =IF(COUNTIF(C$3:C$290,SETUP!A32)>0.005,COUNTIF(C$3:C$290,SETUP!A32),"") | M37: =IF(SUMIF(C$3:C$290,SETUP!A32,E$3:E$290)>0.005,-K37/K$4,"") | N37: =IF(SUMIF(C$3:C$290,I37,$E$3:$E$290)>0.005,K37/L37,"")
I38: =IF(SETUP!A33<>"",SETUP!A33,"") | J38: =IF(SETUP!B33<>"",SETUP!B33,"") | K38: =IF(SUMIF(C$3:C$290,SETUP!A33,E$3:E$290)>0.005,SUMIF(C$3:C$290,SETUP!A33,E$3:E$290),"") | L38: =IF(COUNTIF(C$3:C$290,SETUP!A33)>0.005,COUNTIF(C$3:C$290,SETUP!A33),"") | M38: =IF(SUMIF(C$3:C$290,SETUP!A33,E$3:E$290)>0.005,-K38/K$4,"") | N38: =IF(SUMIF(C$3:C$290,I38,$E$3:$E$290)>0.005,K38/L38,"")
